Workbook

Sheet ダイカスト合計(月別集計)
A1: ダイカストの生産統計(月別集計)
N2: 一般社団法人 日本ダイカスト協会
A3: １．ダイカスト合計 | N3: 資料出所：経済産業省生産動態統計月報
C4: 合 計 | E4: ＊内 製 | F4: 一般機械用 | I4: 電気機械用 | L4: 自動車用 | O4: 二輪自動車用 | R4: その他用
B5: 西暦 | C5: ト ン | D5: 百万円 | E5: ト ン | F5: ト ン | G5: 百万円 | I5: ト ン | J5: 百万円 | L5: ト ン | M5: 百万円 | O5: ト ン | P5: 百万円 | R5: ト ン | S5: 百万円
A6: ２５年 | B6: 2013 | C6: 984842 | D6: 568674 | E6: 318326 | L6: 864456 | M6: 473552
A7: ２６年 | B7: 2014 | C7: 1001099 | D7: 587431 | E7: 326224 | L7: 881299 | M7: 491586
A8: ２７年 | B8: 2015 | C8: 977481 | D8: 584814 | E8: 310885 | L8: 860253 | M8: 488010
A9: ２８年 | B9: 2016 | C9: 983536 | D9: 574617 | E9: 314534 | L9: 870645 | M9: 483674
A10: ２９年 | B10: 2017 | C10: 1043558 | D10: 610299 | E10: 325570.88 | L10: 920769.55 | M10: 510683.47
A11: ３０年 | B11: 2018 | C11: 1074521.7 | D11: 640866.57 | E11: 324524.57 | L11: 950956.04 | M11: 536567.58
A12: ３１年 | B12: 2019 | C12: 1022064.3 | D12: 623522.59 | E12: 319018.17 | L12: 905000.06 | M12: 524789.54
A13: 令和２年 | B13: 2020 | C13: 839131.25 | D13: 524478.74 | E13: 269618.73 | L13: 742331.77 | M13: 441259.5
A14: 令和３年 | B14: 2021 | C14: 925286 | D14: 606752 | E14: 295845 | L14: 807046.87 | M14: 501721.07
A15: 令和４年 | B15: 2022 | C15: 894289.09 | D15: 647516.17 | E15: 291038.78 | L15: 778386.32 | M15: 536157.04
A16: 令和5年 | B16: 2023 | C16: 961948.91 | D16: 718431.82 | E16: 302949.14 | L16: 850654.38 | M16: 610700.32
A17: 令和6年 | B17: 2024 | C17: 906801.38 | D17: 693539.82 | E17: 285172.59 | L17: 808930 | M17: 593389
A18: 令和7年１月 | B18: 2025 | C18: 73595.008 | D18: 58482.547 | E18: 22524.731 | F18: 統計区分なし | G18: - | I18: 統計区分なし | J18: - | L18: 65433.867 | M18: 49982.699 | N18: ←アルミと亜鉛を合計した数字 | R18: 統計区分なし
A19: ２月 | C19: 75664.687 | D19: 59238.977 | E19: 23677.37 | L19: 67292.751 | M19: 50528.169
A20: ３月 | C20: 77431.503 | D20: 61021.323 | E20: 24145.808 | L20: 69080.659 | M20: 52261.232
A21: ４月 | C21: 73775.247 | D21: 58372.504 | E21: 23641.327 | L21: 65692.312 | M21: 49794.35
A22: ５月 | C22: 70662.493 | D22: 56471.511 | E22: 22208.951 | L22: 63058.595 | M22: 48340.652
A23: ６月 | C23: 77885.335 | D23: 61986.75 | E23: 24754.625 | L23: 69733.586 | M23: 53376.04
A24: ７月 | C24: 83366.402 | D24: 66138.02 | E24: 26561.796 | L24: 74837.639 | M24: 56986.414
A25: ８月 | C25: 58871.428 | D25: 47405.37 | E25: 17907.866 | L25: 52512.173 | M25: 40303.403
A26: ９月 | C26: 79690.346 | D26: 62803.918 | E26: 25686.254 | L26: 71563.609 | M26: 53938.133
A27: １０月 | C27: 84251.576 | D27: 66046.672 | E27: 26711.853 | L27: 75448.836 | M27: 56616.844
A28: １１月 | C28: 74003.019 | D28: 58230.382 | E28: 22411.397 | L28: 65711.202 | M28: 49137.799
A29: １２月 | C29: 71378.153 | D29: 57032.685 | E29: 22010.925 | L29: 63674.218 | M29: 48555.873
A30: 合 計 | C30: =SUM(C18:C29) -> 900575.2 | D30: =SUM(D18:D29) -> 713230.66 | E30: =SUM(E18:E29) -> 282242.9 | L30: =SUM(L18:L29) -> 804039.45 | M30: =SUM(M18:M29) -> 609821.61
A31: 前年同期 | C31: =C17 -> 906801.38 | D31: =D17 -> 693539.82 | E31: =E17 -> 285172.59 | L31: =L17 -> 808930 | M31: =M17 -> 593389
A32: シェアー ％ | C32: =C30/$C$30 -> 1 | D32: =D30/$D$30 -> 1 | E32: =E30/$C$30 -> 0.31340293 | L32: =L30/$C$30 -> 0.89280656 | M32: =M30/$D$30 -> 0.85501317
A33: 対前年比 ％ | C33: =C30/C31 -> 0.99313391 | D33: =D30/D31 -> 1.0283918 | E33: =E30/E31 -> 0.98972662 | L33: =L30/L31 -> 0.99395429 | M33: =M30/M31 -> 1.0276928
A34: 令和8年１月 | B34: 2026 | C34: ='アルミ(月別集計)'!C34+'亜鉛(月別集計)'!C34+'その他(月別集計)'!C34 -> 71751.615 | D34: ='アルミ(月別集計)'!D34+'亜鉛(月別集計)'!D34+'その他(月別集計)'!D34 -> 57375.536 | E34: ='アルミ(月別集計)'!E34+'亜鉛(月別集計)'!E34 -> 22046.097 | F34: 統計区分なし | G34: - | I34: 統計区分なし | J34: - | L34: ='アルミ(月別集計)'!L34+'亜鉛(月別集計)'!L34 -> 63993.532 | M34: ='アルミ(月別集計)'!M34+'亜鉛(月別集計)'!M34 -> 49064.566 | N34: ←アルミと亜鉛を合計した数字 | R34: 統計区分なし
A35: ２月 | C35: ='アルミ(月別集計)'!C35+'亜鉛(月別集計)'!C35+'その他(月別集計)'!C35 -> 76028.241 | D35: ='アルミ(月別集計)'!D35+'亜鉛(月別集計)'!D35+'その他(月別集計)'!D35 -> 61080.572 | E35: ='アルミ(月別集計)'!E35+'亜鉛(月別集計)'!E35 -> 23216.998 | L35: ='アルミ(月別集計)'!L35+'亜鉛(月別集計)'!L35 -> 68047.024 | M35: ='アルミ(月別集計)'!M35+'亜鉛(月別集計)'!M35 -> 52180.29
A36: ３月 | C36: ='アルミ(月別集計)'!C36+'亜鉛(月別集計)'!C36+'その他(月別集計)'!C36 -> 82563.162 | D36: ='アルミ(月別集計)'!D36+'亜鉛(月別集計)'!D36+'その他(月別集計)'!D36 -> 65909.287 | E36: ='アルミ(月別集計)'!E36+'亜鉛(月別集計)'!E36 -> 25719.342 | L36: ='アルミ(月別集計)'!L36+'亜鉛(月別集計)'!L36 -> 74112.521 | M36: ='アルミ(月別集計)'!M36+'亜鉛(月別集計)'!M36 -> 56774.908
A37: ４月 | C37: ='アルミ(月別集計)'!C37+'亜鉛(月別集計)'!C37+'その他(月別集計)'!C37 -> 77352.071 | D37: ='アルミ(月別集計)'!D37+'亜鉛(月別集計)'!D37+'その他(月別集計)'!D37 -> 63625.72 | E37: ='アルミ(月別集計)'!E37+'亜鉛(月別集計)'!E37 -> 24577.88 | L37: ='アルミ(月別集計)'!L37+'亜鉛(月別集計)'!L37 -> 69010.276 | M37: ='アルミ(月別集計)'!M37+'亜鉛(月別集計)'!M37 -> 54240.189
A38: ５月 | C38: ='アルミ(月別集計)'!C38+'亜鉛(月別集計)'!C38+'その他(月別集計)'!C38 -> 68755.878 | D38: ='アルミ(月別集計)'!D38+'亜鉛(月別集計)'!D38+'その他(月別集計)'!D38 -> 56595.297 | E38: ='アルミ(月別集計)'!E38+'亜鉛(月別集計)'!E38 -> 21227.775 | L38: ='アルミ(月別集計)'!L38+'亜鉛(月別集計)'!L38 -> 61102.079 | M38: ='アルミ(月別集計)'!M38+'亜鉛(月別集計)'!M38 -> 47981.914
A39: ６月 | C39: ='アルミ(月別集計)'!C39+'亜鉛(月別集計)'!C39+'その他(月別集計)'!C39 -> 79556.062 | D39: ='アルミ(月別集計)'!D39+'亜鉛(月別集計)'!D39+'その他(月別集計)'!D39 -> 66089.965 | E39: ='アルミ(月別集計)'!E39+'亜鉛(月別集計)'!E39 -> 24497.033 | L39: ='アルミ(月別集計)'!L39+'亜鉛(月別集計)'!L39 -> 70807.972 | M39: ='アルミ(月別集計)'!M39+'亜鉛(月別集計)'!M39 -> 55966.482
A40: ７月 | C40: ='アルミ(月別集計)'!C40+'亜鉛(月別集計)'!C40+'その他(月別集計)'!C40 -> 85534.847 | D40: ='アルミ(月別集計)'!D40+'亜鉛(月別集計)'!D40+'その他(月別集計)'!D40 -> 72758.149 | E40: ='アルミ(月別集計)'!E40+'亜鉛(月別集計)'!E40 -> 26597.254 | L40: ='アルミ(月別集計)'!L40+'亜鉛(月別集計)'!L40 -> 76478.034 | M40: ='アルミ(月別集計)'!M40+'亜鉛(月別集計)'!M40 -> 62032.312
...

Sheet アルミ(月別集計)
A1: ダイカストの生産統計(月別集計)
N2: 一般社団法人 日本ダイカスト協会
A3: ２．アルミニウムダイカスト | N3: 資料出所：経済産業省生産動態統計月報
C4: 合 計 | E4: ＊内 製 | F4: 一般機械用 | I4: 電気機械用 | L4: 自動車用 | O4: 二輪自動車用 | R4: その他用
C5: ト ン | D5: 百万円 | E5: ト ン | F5: ト ン | G5: 百万円 | I5: ト ン | J5: 百万円 | L5: ト ン | M5: 百万円 | O5: ト ン | P5: 百万円 | R5: ト ン | S5: 百万円
A6: ２５年 | B6: 2013 | C6: 958503 | D6: 532851 | E6: 309015 | F6: 32866 | G6: 24577 | I6: 17508 | J6: 19907 | L6: 851841 | M6: 448879 | O6: 28720 | P6: 19390 | R6: 27568 | S6: 20099
A7: ２６年 | B7: 2014 | C7: 975508 | D7: 553149 | E7: 317289 | F7: 29260 | G7: 23232 | I7: 17911 | J7: 20327 | L7: 869473 | M7: 468556 | O7: 28593 | P7: 19210 | R7: 30271 | S7: 21824
A8: ２７年 | B8: 2015 | C8: 953570 | D8: 555179 | E8: 302466 | F8: 28378 | G8: 23595 | I8: 17839 | J8: 20432 | L8: 849252 | M8: 469392 | O8: 27155 | P8: 18989 | R8: 30946 | S8: 22771
A9: ２８年 | B9: 2016 | C9: 960888 | D9: 543372 | E9: 306641 | F9: 26758 | G9: 21842 | I9: 16333 | J9: 18317 | L9: 860549 | M9: 463933 | O9: 25810 | P9: 16596 | R9: 31438 | S9: 22684
A10: ２９年 | B10: 2017 | C10: 1019993 | D10: 576934 | E10: 317070 | F10: 31542 | G10: 25012 | I10: 16865 | J10: 18654 | L10: 910481 | M10: 490310 | O10: 27629 | P10: 18304 | R10: 33476 | S10: 24655
A11: ３０年 | B11: 2018 | C11: 1051430 | D11: 606695.83 | E11: 316589.5 | F11: 31545.002 | G11: 25839.113 | I11: 18051.258 | J11: 20987.113 | L11: 941442.03 | M11: 516579.15 | O11: 24597.309 | P11: 16119.32 | R11: 35794.375 | S11: 27171.141
A12: ３１年 | B12: 2019 | C12: 1000279.9 | D12: 588006 | E12: 311502 | F12: 28892.276 | G12: 24154.067 | I12: 17070.63 | J12: 20082.521 | L12: 895933.42 | M12: 501754.4 | O12: 23105.729 | P12: 14873.381 | R12: 34686.425 | S12: 26800.759
A13: 令和２年 | B13: 2020 | C13: 821467.06 | D13: 495104.56 | E13: 264450.19 | F13: 26164.543 | G13: 21754.755 | I13: 14353.939 | J13: 17202.54 | L13: 734824.05 | M13: 422624.5 | O13: 18788.515 | P13: 12005.253 | R13: 27336.01 | S13: 21517.513
A14: 令和３年 | B14: 2021 | C14: 904439.85 | D14: 570890.65 | E14: 287981.3 | F14: 31483.05 | G14: 27088.671 | I14: 17598.4 | J14: 21022.351 | L14: 798454.75 | M14: 479482.72 | O14: 22975.566 | P14: 15482.843 | R14: 33928.083 | S14: 27814.057
A15: 令和4年 | B15: 2022 | C15: 875225.61 | D15: 607312.89 | E15: 283886.72 | F15: 29856.595 | G15: 28168.976 | I15: 16793.231 | J15: 21287.957 | L15: 771023.18 | M15: 511600.79 | O15: 21885.793 | P15: 16162.981 | R15: 35666.809 | S15: 30092.187
A16: 令和5年 | B16: 2023 | C16: 944994.37 | D16: 676323.2 | E16: 297012.39 | F16: 28163.403 | G16: 27766.352 | I16: 15784.546 | J16: 20628.977 | L16: 843231.79 | M16: 581543 | O16: 21676.208 | P16: 16653.027 | R16: 36138.428 | S16: 29731.848
A17: 令和6年 | B17: 2024 | C17: 890005.58 | D17: 653212.41 | E17: 278422.28 | F17: 26338.596 | G17: 26734.922 | I17: 15121.263 | J17: 20079.782 | L17: 801812.14 | M17: 565944.37 | O17: 20257.589 | P17: 16330.521 | R17: 26475.992 | S17: 24122.809
A18: 令和7年１月 | B18: 2025 | C18: 72175.823 | D18: 55343.802 | E18: 21939.863 | F18: 2064.92 | G18: 2262.909 | I18: 1242.669 | J18: 1676.002 | L18: 64824.93 | M18: 47899.569 | O18: 1764.175 | P18: 1442.924 | R18: 2279.129 | S18: 2062.398
A19: ２月 | C19: 74291.966 | D19: 55870.458 | E19: 23122.886 | F19: 2112.539 | G19: 2234.797 | I19: 1239.166 | J19: 1700.78 | L19: 66708.931 | M19: 48202.242 | O19: 1831.264 | P19: 1534.178 | R19: 2400.066 | S19: 2198.461
A20: ３月 | C20: 76083.989 | D20: 57407.424 | E20: 23576.461 | F20: 2195.658 | G20: 2318.487 | I20: 1204.123 | J20: 1677.189 | L20: 68516.073 | M20: 49669.814 | O20: 1788.573 | P20: 1499.912 | R20: 2379.562 | S20: 2242.022
A21: ４月 | C21: 72338.184 | D21: 55536.627 | E21: 23018.159 | F21: 2088.531 | G21: 2199.761 | I21: 1137.755 | J21: 1610.234 | L21: 65135.951 | M21: 48061.346 | O21: 1711.81 | P21: 1426.926 | R21: 2264.137 | S21: 2238.36
A22: ５月 | C22: 69336.285 | D22: 53415.558 | E22: 21649.75 | F22: 2051.646 | G22: 2164.935 | I22: 1062.177 | J22: 1569.818 | L22: 62508.377 | M22: 46296.625 | O22: 1538.457 | P22: 1298.551 | R22: 2175.628 | S22: 2085.629
A23: ６月 | C23: 76600.564 | D23: 58427.417 | E23: 24270.911 | F23: 2231.164 | G23: 2336.948 | I23: 1142.138 | J23: 1633.811 | L23: 69165.804 | M23: 50839.461 | O23: 1706.85 | P23: 1392.628 | R23: 2354.608 | S23: 2224.569
A24: ７月 | C24: 81945.435 | D24: 62800.268 | E24: 26065.185 | F24: 2374.645 | G24: 2532.667 | I24: 1201.559 | J24: 1778.04 | L24: 74198.157 | M24: 54733.029 | O24: 1779.401 | P24: 1436.848 | R24: 2391.673 | S24: 2319.684
A25: ８月 | C25: 57819.657 | D25: 44684.289 | E25: 17527.748 | F25: 1869.594 | G25: 1974.489 | I25: 974.255 | J25: 1504.669 | L25: 52069.162 | M25: 38494.564 | O25: 1182.063 | P25: 975.305 | R25: 1724.583 | S25: 1735.262
A26: ９月 | C26: 78388.76 | D26: 59523.637 | E26: 25219.234 | F26: 2296.773 | G26: 2453.87 | I26: 1263.861 | J26: 1804.983 | L26: 70988.619 | M26: 51744.001 | O26: 1668.669 | P26: 1389.243 | R26: 2170.838 | S26: 2131.54
A27: １０月 | C27: 82873.582 | D27: 62612.778 | E27: 26222.87 | F27: 2438.005 | G27: 2539.127 | I27: 1338.315 | J27: 1910.463 | L27: 74808.883 | M27: 54286.736 | O27: 1969.709 | P27: 1621.168 | R27: 2318.67 | S27: 2255.284
A28: １１月 | C28: 72750.629 | D28: 55115.607 | E28: 21931.85 | F28: 2196.927 | G28: 2385.945 | I28: 1188.244 | J28: 1786.908 | L28: 65204.971 | M28: 47123.179 | O28: 1782.897 | P28: 1518.703 | R28: 2377.59 | S28: 2300.872
A29: １２月 | C29: 70189.435 | D29: 53810.093 | E29: 21552.777 | F29: 2124.72 | G29: 2218.541 | I29: 1136.48 | J29: 1665.068 | L29: 63161.49 | M29: 46394.262 | O29: 1645.348 | P29: 1410.057 | R29: 2121.397 | S29: 2122.165
A30: 合 計 | C30: =SUM(C18:C29) -> 884794.31 | D30: =SUM(D18:D29) -> 674547.96 | E30: =SUM(E18:E29) -> 276097.69 | F30: =SUM(F18:F29) -> 26045.122 | G30: =SUM(G18:G29) -> 27622.476 | I30: =SUM(I18:I29) -> 14130.742 | J30: =SUM(J18:J29) -> 20317.965 | L30: =SUM(L18:L29) -> 797291.35 | M30: =SUM(M18:M29) -> 583744.83 | O30: =SUM(O18:O29) -> 20369.216 | P30: =SUM(P18:P29) -> 16946.443 | R30: =SUM(R18:R29) -> 26957.881 | S30: =SUM(S18:S29) -> 25916.246
A31: 前年同期 | C31: =C17 -> 890005.58 | D31: =D17 -> 653212.41 | E31: =E17 -> 278422.28 | F31: =F17 -> 26338.596 | G31: =G17 -> 26734.922 | I31: =I17 -> 15121.263 | J31: =J17 -> 20079.782 | L31: =L17 -> 801812.14 | M31: =M17 -> 565944.37 | O31: =O17 -> 20257.589 | P31: =P17 -> 16330.521 | R31: =R17 -> 26475.992 | S31: =S17 -> 24122.809
A32: シェアー ％ | C32: 1 | D32: 1 | E32: =E30/$C$30 -> 0.31204732 | F32: =F30/$C$30 -> 0.029436358 | G32: =G30/$D$30 -> 0.04094961 | I32: =I30/$C$30 -> 0.015970652 | J32: =J30/$D$30 -> 0.030120861 | L32: =L30/$C$30 -> 0.90110361 | M32: =M30/$D$30 -> 0.8653867 | O32: =O30/$C$30 -> 0.023021414 | P32: =P30/$D$30 -> 0.025122666 | R32: =R30/$C$30 -> 0.030467964 | S32: =S30/$D$30 -> 0.038420168
A33: 対前年比 ％ | C33: =C30/C31 -> 0.99414468 | D33: =D30/D31 -> 1.0326625 | E33: =E30/E31 -> 0.99165087 | F33: =F30/F31 -> 0.98885764 | G33: =G30/G31 -> 1.0331983 | I33: =I30/I31 -> 0.93449482 | J33: =J30/J31 -> 1.0118618 | L33: =L30/L31 -> 0.99436178 | M33: =M30/M31 -> 1.0314527 | O33: =O30/O31 -> 1.0055104 | P33: =P30/P31 -> 1.037716 | R33: =R30/R31 -> 1.018201 | S33: =S30/S31 -> 1.0743461
A34: 令和8年１月 | B34: 2026 | C34: =F34+I34+L34+O34+R34 -> 70523.523 | D34: =G34+J34+M34+P34+S34 -> 54172.102 | E34: 21564.13 | F34: 2023.535 | G34: 2101.652 | I34: 1085.871 | J34: 1634.255 | L34: 63477.838 | M34: 46915.253 | O34: 1670.631 | P34: 1372.498 | R34: 2265.648 | S34: 2148.444
A35: ２月 | C35: =F35+I35+L35+O35+R35 -> 74785.503 | D35: =G35+J35+M35+P35+S35 -> 57822.55 | E35: 22755.964 | F35: 2166.868 | G35: 2216.736 | I35: 1177.163 | J35: 1742.077 | L35: 67508.492 | M35: 50030.712 | O35: 1617.51 | P35: 1396.671 | R35: 2315.47 | S35: 2436.354
A36: ３月 | C36: =F36+I36+L36+O36+R36 -> 81255.636 | D36: =G36+J36+M36+P36+S36 -> 62438.272 | E36: 25181.59 | F36: 2249.137 | G36: 2318.674 | I36: 1234.056 | J36: 1820.606 | L36: 73581.492 | M36: 54446.378 | O36: 1671.561 | P36: 1396.111 | R36: 2519.39 | S36: 2456.503
A37: ４月 | C37: =F37+I37+L37+O37+R37 -> 76046.84 | D37: =G37+J37+M37+P37+S37 -> 60067.79 | E37: 24043.189 | F37: 2223.068 | G37: 2382.691 | I37: 1257.828 | J37: 1931.907 | L37: 68498.889 | M37: 51915.384 | O37: 1603.338 | P37: 1387.097 | R37: 2463.717 | S37: 2450.711
A38: ５月 | C38: =F38+I38+L38+O38+R38 -> 67571.478 | D38: =G38+J38+M38+P38+S38 -> 53275.233 | E38: 20751.301 | F38: 2024.68 | G38: 2143.414 | I38: 1112.116 | J38: 1737.649 | L38: 60631.494 | M38: 45854.907 | O38: 1475.35 | P38: 1238.333 | R38: 2327.838 | S38: 2300.93
A39: ６月 | C39: =F39+I39+L39+O39+R39 -> 78206.162 | D39: =G39+J39+M39+P39+S39 -> 62510.936 | E39: 23971.901 | F39: 2325.604 | G39: 2538.906 | I39: 1307.334 | J39: 2034.1 | L39: 70235.358 | M39: 53675.715 | O39: 1758.006 | P39: 1562.434 | R39: 2579.86 | S39: 2699.781
A40: ７月 | C40: =F40+I40+L40+O40+R40 -> 84086.723 | D40: =G40+J40+M40+P40+S40 -> 68902.032 | E40: 26034.549 | F40: 2387.032 | G40: 2637.743 | I40: 1363.357 | J40: 2203.568 | L40: 75851.848 | M40: 59571.856 | O40: 1764.519 | P40: 1593.146 | R40: 2719.967 | S40: 2895.719
...

Sheet 亜鉛(月別集計)
A1: ダイカストの生産統計(月別集計)
N2: 一般社団法人 日本ダイカスト協会
A3: ３．亜鉛ダイカスト | N3: 資料出所：経済産業省生産動態統計月報
C4: 合 計 | E4: ＊内 製 | F4: 一般機械用 | I4: 電気機械用 | L4: 自動車用 | O4: 二輪自動車用 | R4: その他用
C5: ト ン | D5: 百万円 | E5: ト ン | F5: ト ン | G5: 百万円 | I5: ト ン | J5: 百万円 | L5: ト ン | M5: 百万円 | O5: ト ン | P5: 百万円 | R5: ト ン | S5: 百万円
A6: ２５年 | B6: 2013 | C6: 21707 | D6: 32121 | E6: 9311 | L6: 12615 | M6: 24673
A7: ２６年 | B7: 2014 | C7: 21009 | D7: 30436 | E7: 8935 | L7: 11826 | M7: 23030
A8: ２７年 | B8: 2015 | C8: 20307 | D8: 26508 | E8: 8419 | L8: 11001 | M8: 18618
A9: ２８年 | B9: 2016 | C9: 18890 | D9: 27467 | E9: 7893 | L9: 10096 | M9: 19741
A10: ２９年 | B10: 2017 | C10: 19713 | D10: 29829 | E10: 8501 | L10: 10289 | M10: 20374
A11: ３０年 | B11: 2018 | C11: 18689.804 | D11: 30877.117 | E11: 8052.585 | L11: 9514.016 | M11: 19988.428
A12: ３１年 | B12: 2019 | C12: 17544.349 | D12: 31784.602 | E12: 7516.166 | L12: 9066.643 | M12: 23035.136
A13: 令和２年 | B13: 2020 | C13: 13792.869 | D13: 26189.96 | E13: 5841.714 | L13: 7507.716 | M13: 18635.004
A14: 令和３年 | B14: 2021 | C14: 16926.899 | D14: 32177.535 | E14: 7863.941 | L14: 7873.732 | M14: 21697.171
A15: 令和４年 | B15: 2022 | C15: 15735.267 | D15: 36189.206 | E15: 7152.054 | L15: 7363.141 | M15: 24556.255
A16: 令和5年 | B16: 2023 | C16: 14138.505 | D16: 38884.568 | E16: 5936.756 | L16: 7422.596 | M16: 29157.321 | R16: 6715.909 | S16: 9727.247
A17: 令和6年 | B17: 2024 | C17: 14481.893 | D17: 37456.774 | E17: 6750.31 | L17: 7118.713 | M17: 27445.329 | R17: 7363.18 | S17: 10011.445
A18: 令和7年１月 | B18: 2025 | C18: 1236.787 | D18: 2919.872 | E18: 584.868 | L18: 608.937 | M18: 2083.13 | R18: 627.85 | S18: 836.742
A19: ２月 | C19: 1193.524 | D19: 3166.671 | E19: 554.484 | L19: 583.82 | M19: 2325.927 | R19: 609.704 | S19: 840.744
A20: ３月 | C20: 1176.092 | D20: 3387.202 | E20: 569.347 | L20: 564.586 | M20: 2591.418 | R20: 611.506 | S20: 795.784
A21: ４月 | C21: 1241.479 | D21: 2604.583 | E21: 623.168 | L21: 556.361 | M21: 1733.004 | R21: 685.118 | S21: 871.579
A22: ５月 | C22: 1149.15 | D22: 2840.188 | E22: 559.201 | L22: 550.218 | M22: 2044.027 | R22: 598.932 | S22: 796.161
A23: ６月 | C23: 1105.61 | D23: 3340.821 | E23: 483.714 | L23: 567.782 | M23: 2536.579 | R23: 537.828 | S23: 804.242
A24: ７月 | C24: 1204.123 | D24: 3065.085 | E24: 496.611 | L24: 639.482 | M24: 2253.385 | R24: 564.641 | S24: 811.7
A25: ８月 | C25: 894.474 | D25: 2509.61 | E25: 380.118 | L25: 443.011 | M25: 1808.839 | R25: 451.463 | S25: 700.771
A26: ９月 | C26: 1087.841 | D26: 3010.88 | E26: 467.02 | L26: 574.99 | M26: 2194.132 | R26: 512.851 | S26: 816.748
A27: １０月 | C27: 1170.133 | D27: 3131.019 | E27: 488.983 | L27: 639.953 | M27: 2330.108 | R27: 530.18 | S27: 800.911
A28: １１月 | C28: 1064.258 | D28: 2841.84 | E28: 479.547 | L28: 506.231 | M28: 2014.62 | R28: 558.027 | S28: 827.22
A29: １２月 | C29: 1001.767 | D29: 2969.038 | E29: 458.148 | L29: 512.728 | M29: 2161.611 | R29: 489.039 | S29: 807.427
A30: 合 計 | C30: =SUM(C18:C29) -> 13525.238 | D30: =SUM(D18:D29) -> 35786.809 | E30: =SUM(E18:E29) -> 6145.209 | L30: =SUM(L18:L29) -> 6748.099 | M30: =SUM(M18:M29) -> 26076.78 | R30: =SUM(R18:R29) -> 6777.139 | S30: =SUM(S18:S29) -> 9710.029
A31: 前年同期 | C31: =C17 -> 14481.893 | D31: =D17 -> 37456.774 | E31: =E17 -> 6750.31 | L31: =L17 -> 7118.713 | M31: =M17 -> 27445.329
A32: シェアー ％ | C32: 1 | D32: 1 | E32: =E30/$C$30 -> 0.45435127 | L32: =L30/$C$30 -> 0.49892645 | M32: =M30/$D$30 -> 0.72867016
A33: 対前年比 ％ | C33: =C30/C31 -> 0.9339413 | D33: =D30/D31 -> 0.95541621 | E33: =E30/E31 -> 0.91035952 | L33: =L30/L31 -> 0.94793806 | M33: =M30/M31 -> 0.95013545
A34: 令和8年１月 | B34: 2026 | C34: =L34+R34 -> 1066.058 | D34: =SUM(M34,S34) -> 2963.518 | E34: 481.967 | L34: 515.694 | M34: 2149.313 | R34: 550.364 | S34: 814.205
A35: ２月 | C35: =SUM(L35+R35) -> 1074.978 | D35: =SUM(M35,S35) -> 3019.376 | E35: 461.034 | L35: 538.532 | M35: 2149.578 | R35: 536.446 | S35: 869.798
A36: ３月 | C36: =SUM(L36+R36) -> 1133.776 | D36: =SUM(M36,S36) -> 3230.781 | E36: 537.752 | L36: 531.029 | M36: 2328.53 | R36: 602.747 | S36: 902.251
A37: ４月 | C37: =SUM(L37+R37) -> 1138.934 | D37: =SUM(M37,S37) -> 3288.156 | E37: 534.691 | L37: 511.387 | M37: 2324.805 | R37: 627.547 | S37: 963.351
A38: ５月 | C38: =SUM(L38+R38) -> 1032.502 | D38: =SUM(M38,S38) -> 3034.258 | E38: 476.474 | L38: 470.585 | M38: 2127.007 | R38: 561.917 | S38: 907.251
A39: ６月 | C39: =SUM(L39+R39) -> 1154.086 | D39: =SUM(M39,S39) -> 3278.818 | E39: 525.132 | L39: 572.614 | M39: 2290.767 | R39: 581.472 | S39: 988.051
A40: ７月 | C40: =SUM(L40+R40) -> 1260.07 | D40: =SUM(M40,S40) -> 3527.386 | E40: 562.705 | L40: 626.186 | M40: 2460.456 | R40: 633.884 | S40: 1066.93
...

Sheet その他(月別集計)
A1: ダイカストの生産統計(月別集計)
N2: 一般社団法人 日本ダイカスト協会
A3: ４．その他ダイカスト | N3: 資料出所：経済産業省生産動態統計月報
C4: 合 計 | E4: ＊内 製 | F4: 一般機械用 | I4: 電気機械用 | L4: 自動車用 | O4: 二輪自動車用 | R4: その他用
C5: ト ン | D5: 百万円 | E5: ト ン | F5: ト ン | G5: 百万円 | I5: ト ン | J5: 百万円 | L5: ト ン | M5: 百万円 | O5: ト ン | P5: 百万円 | R5: ト ン | S5: 百万円
A6: ２５年 | B6: 2013 | C6: 4632 | D6: 3702
A7: ２６年 | B7: 2014 | C7: 4582 | D7: 3846
A8: ２７年 | B8: 2015 | C8: 3603 | D8: 3127
A9: ２８年 | B9: 2016 | C9: 3759 | D9: 3778
A10: ２９年 | B10: 2017 | C10: 3852 | D10: 3536
A11: ３０年 | B11: 2018 | C11: 4117.475 | D11: 3883.444
A12: ３１年 | B12: 2019 | C12: 4240.079 | D12: 3731.987
A13: 令和２年 | B13: 2020 | C13: 3871.824 | D13: 3184.217
A14: 令和3年 | B14: 2021 | C14: 3919.597 | D14: 3683.597
A15: 令和４年 | B15: 2022 | C15: 3328.216 | D15: 4014.073
A16: 令和5年 | B16: 2023 | C16: 2816.035 | D16: 3224.052
A17: 令和6年 | B17: 2024 | C17: 2313.904 | D17: 2870.636
A18: 令和7年１月 | B18: 2025 | C18: 182.398 | D18: 218.873 | E18: 統計区分なし | F18: 統計区分なし | G18: - | I18: 統計区分なし | J18: - | L18: 統計区分なし | M18: - | O18: 統計区分なし | P18: - | R18: 統計区分なし | S18: -
A19: ２月 | C19: 179.197 | D19: 201.848
A20: ３月 | C20: 171.422 | D20: 226.697
A21: ４月 | C21: 195.584 | D21: 231.294
A22: ５月 | C22: 177.058 | D22: 215.765
A23: ６月 | C23: 179.161 | D23: 218.512
A24: ７月 | C24: 216.844 | D24: 272.667
A25: ８月 | C25: 157.297 | D25: 211.471
A26: ９月 | C26: 213.745 | D26: 269.401
A27: １０月 | C27: 207.861 | D27: 302.875
A28: １１月 | C28: 188.132 | D28: 272.935
A29: １２月 | C29: 186.951 | D29: 253.554
A30: 合 計 | C30: =SUM(C18:C29) -> 2255.65 | D30: =SUM(D18:D29) -> 2895.892
A31: 前年同期 | C31: =C17 -> 2313.904 | D31: =D17 -> 2870.636
A32: シェアー ％ | C32: 1 | D32: 1
A33: 対前年比 ％ | C33: =C30/C31 -> 0.97482437 | D33: =D30/D31 -> 1.0087981
A34: 令和8年１月 | B34: 2026 | C34: 162.034 | D34: 239.916 | E34: 統計区分なし | F34: 統計区分なし | G34: - | I34: 統計区分なし | J34: - | L34: 統計区分なし | M34: - | O34: 統計区分なし | P34: - | R34: 統計区分なし | S34: -
A35: ２月 | C35: 167.76 | D35: 238.646
A36: ３月 | C36: 173.75 | D36: 240.234
A37: ４月 | C37: 166.297 | D37: 269.774
A38: ５月 | C38: 151.898 | D38: 285.806
A39: ６月 | C39: 195.814 | D39: 300.211
A40: ７月 | C40: 188.054 | D40: 328.731
...

Sheet 年別集計(ダイカスト合計、アルミ)
A1: ダイカストの生産統計(年別集計)
N2: 一般社団法人 日本ダイカスト協会
A3: １．ダイカスト合計 | N3: 資料出所：経済産業省生産動態統計月報
C4: 合 計 | E4: ＊内 製 | F4: 一般機械用 | I4: 電気機械用 | L4: 自動車用 | O4: 二輪自動車用 | R4: その他用
B5: 事業所数 | C5: ト ン | D5: 百万円 | E5: ト ン | F5: ト ン | G5: 百万円 | I5: ト ン | J5: 百万円 | L5: ト ン | M5: 百万円 | O5: ト ン | P5: 百万円 | R5: ト ン | S5: 百万円
A6: １３年 | C6: 788741 | D6: 432425 | E6: 197335 | F6: 47688 | G6: 31764 | I6: 34394 | J6: 31142 | L6: 611685 | M6: 305542 | O6: 49212 | P6: 31957 | R6: 45762 | S6: 32016
A7: １４年 | C7: 854426 | D7: 464934 | E7: 209850 | F7: 統計区分なし | G7: - | I7: 統計区分なし | J7: - | L7: 683970 | M7: 336088 | O7: 統計区分なし | P7: - | R7: 統計区分なし | S7: -
A8: １５年 | C8: 914811 | D8: 506204 | E8: 239440 | L8: 729948 | M8: 373121
A9: １６年 | C9: 985254 | D9: 550899 | E9: 264334 | L9: 789876 | M9: 409167
A10: １７年 | C10: 1064866 | D10: 599983 | E10: 294243 | L10: 867689 | M10: 455772
A11: １８年 | C11: 1123807 | D11: 675101 | E11: 302497 | L11: 921170 | M11: 518467
A12: １９年 | C12: 1158360 | D12: 731729 | E12: 322832 | L12: 957803 | M12: 568472
A13: ２０年 | C13: 1093806 | D13: 696420 | E13: 313702 | L13: 914054 | M13: 548908
A14: ２１年 | C14: 758316 | D14: 443456 | E14: 241311 | L14: 652113 | M14: 357351
A15: ２２年 | C15: 980850 | D15: 576470 | E15: 309168 | L15: 839951 | M15: 462086
A16: ２３年 | C16: 930474 | D16: 557736 | E16: 285792 | L16: 794624 | M16: 449418
A17: ２４年 | C17: 1006286 | D17: 580614 | E17: 331416 | L17: 875397 | M17: 479190
A18: ２５年 | C18: 984842 | D18: 568674 | E18: 318326 | L18: 864456 | M18: 473552
A19: ２６年 | C19: 1001099 | D19: 587431 | E19: 326224 | L19: 881299 | M19: 491586
A20: ２７年 | C20: 977481 | D20: 584814 | E20: 310885 | L20: 860253 | M20: 488010
A21: ２８年 | B21: 2016 | C21: 983536 | D21: 574617 | E21: 314534 | L21: 871320 | M21: 483674
A22: ２９年 | B22: 2017 | C22: 1043558 | D22: 610299 | E22: 325570.88 | L22: 920769.55 | M22: 510683.47
A23: ３０年 | B23: 2018 | C23: 1074521.7 | D23: 640866.57 | E23: 324524.57 | L23: 950956.04 | M23: 536567.58
A24: ３１年 | B24: 2019 | C24: 1022064.3 | D24: 623522.59 | E24: 319018.17 | L24: 905000.06 | M24: 524789.54
A25: 令和2年 | B25: 2020 | C25: 839131.25 | D25: 524478.74 | E25: 269618.73 | L25: 742331.77 | M25: 441259.5
A26: 令和3年 | B26: 2021 | C26: 925980.49 | D26: 607231.02 | E26: 295844.4 | L26: 807046.87 | M26: 501721.07
A27: 令和4年 | B27: 2022 | C27: 894289.09 | D27: 647516.17 | E27: 291038.78 | L27: 778386.32 | M27: 536157.04
A28: 令和5年 | B28: 2023 | C28: 961948.91 | D28: 718431.82 | E28: 302949.14 | L28: 850654.38 | M28: 610700.32
A29: 令和6年 | B29: 2024 | C29: 906801.38 | D29: 693539.82 | E29: 285172.59 | L29: 808930 | M29: 593389
A30: 令和6年 | B30: 2025 | C30: ='ダイカスト合計(月別集計)'!C30 -> 900575.2 | D30: ='ダイカスト合計(月別集計)'!D30 -> 713230.66 | E30: ='ダイカスト合計(月別集計)'!E30 -> 282242.9 | L30: ='ダイカスト合計(月別集計)'!L30 -> 804039.45 | M30: ='ダイカスト合計(月別集計)'!M30 -> 609821.61 | R30: ='ダイカスト合計(月別集計)'!R30 | S30: ='ダイカスト合計(月別集計)'!S30
A31: 令和7年 | B31: 2026 | C31: ='ダイカスト合計(月別集計)'!C46 -> 603107.16 | D31: ='ダイカスト合計(月別集計)'!D46 -> 496265.42 | E31: ='ダイカスト合計(月別集計)'!E46 -> 187470.05 | L31: ='ダイカスト合計(月別集計)'!L46 -> 538748.13 | M31: ='ダイカスト合計(月別集計)'!M46 -> 423821.93
B32: ＊は自己消費量を示し、合計値の内数である。
A35: ２．アルミニウムダイカスト
C36: 合 計 | E36: ＊内 製 | F36: 一般機械用 | I36: 電気機械用 | L36: 自動車用 | O36: 二輪自動車用 | R36: その他用
C37: ト ン | D37: 百万円 | E37: ト ン | F37: ト ン | G37: 百万円 | I37: ト ン | J37: 百万円 | L37: ト ン | M37: 百万円 | O37: ト ン | P37: 百万円 | R37: ト ン | S37: 百万円
A38: １３年 | C38: 750458 | D38: 390808 | E38: 184783 | F38: 45980 | G38: 30231 | I38: 31250 | J38: 24914 | L38: 591338 | M38: 280237 | O38: 45553 | P38: 29709 | R38: 36333 | S38: 25719
A39: １４年 | C39: 812298 | D39: 417711 | E39: 197107 | F39: 52127 | G39: 32985 | I39: 30757 | J39: 23802 | L39: 649451 | M39: 308539 | O39: 48949 | P39: 30852 | R39: 31014 | S39: 21533
A40: １５年 | C40: 869776 | D40: 451882 | E40: 226000 | F40: 53266 | G40: 33699 | I40: 28875 | J40: 23581 | L40: 709685 | M40: 341774 | O40: 44653 | P40: 28861 | R40: 33297 | S40: 23967
A41: １６年 | C41: 940181 | D41: 495088 | E41: 249967 | F41: 56935 | G41: 36232 | I41: 27881 | J41: 23497 | L41: 768955 | M41: 375796 | O41: 48788 | P41: 32219 | R41: 37621 | S41: 27343
A42: １７年 | C42: 1020547 | D42: 543062 | E42: 280152 | F42: 57123 | G42: 36560 | I42: 28102 | J42: 24029 | L42: 846276 | M42: 419671 | O42: 51225 | P42: 34620 | R42: 37822 | S42: 28183
...

Sheet 年別集計(亜鉛、その他)
A1: ダイカストの生産統計(年別集計)
N2: 一般社団法人 日本ダイカスト協会
A3: ３.亜鉛ダイカスト | N3: 資料出所：経済産業省生産動態統計月報
C4: 合 計 | E4: ＊内 製 | F4: 一般機械用 | I4: 電気機械用 | L4: 自動車用 | O4: 二輪自動車用 | R4: その他用
C5: ト ン | D5: 百万円 | E5: ト ン | F5: ト ン | G5: 百万円 | I5: ト ン | J5: 百万円 | L5: ト ン | M5: 百万円 | O5: ト ン | P5: 百万円 | R5: ト ン | S5: 百万円
A6: １３年 | C6: 32871 | D6: 35248 | E6: 12550 | F6: 1469 | G6: 1007 | I6: 2478 | J6: 4452 | L6: 17647 | M6: 23979 | O6: 3396 | P6: 1985 | R6: 7877 | S6: 3825
A7: １４年 | C7: 34519 | D7: 38968 | E7: 12704 | F7: 統計区分なし | G7: - | I7: 統計区分なし | J7: - | L7: 19156 | M7: 27549 | O7: 統計区分なし | P7: - | R7: 統計区分なし | S7: -
A8: １５年 | C8: 35379 | D8: 42488 | E8: 13440 | F8: 統計区分なし | G8: - | I8: 統計区分なし | J8: - | L8: 20263 | M8: 31347 | O8: 統計区分なし | P8: - | R8: 統計区分なし | S8: -
A9: １６年 | C9: 36217 | D9: 44597 | E9: 14367 | F9: 統計区分なし | G9: - | I9: 統計区分なし | J9: - | L9: 20921 | M9: 33371 | O9: 統計区分なし | P9: - | R9: 統計区分なし | S9: -
A10: １７年 | C10: 36216 | D10: 47542 | E10: 14091 | F10: 統計区分なし | G10: - | I10: 統計区分なし | J10: - | L10: 21413 | M10: 36101 | O10: 統計区分なし | P10: - | R10: 統計区分なし | S10: -
A11: １８年 | C11: 35670 | D11: 53140 | E11: 13316 | F11: 統計区分なし | G11: - | I11: 統計区分なし | J11: - | L11: 23069 | M11: 40132 | O11: 統計区分なし | P11: - | R11: 統計区分なし | S11: -
A12: １９年 | C12: 34240 | D12: 54039 | E12: 13881 | F12: 統計区分なし | G12: - | I12: 統計区分なし | J12: - | L12: 21133 | M12: 40108 | O12: 統計区分なし | P12: - | R12: 統計区分なし | S12: -
A13: ２０年 | C13: 30206 | D13: 48320 | E13: 12342 | F13: 統計区分なし | G13: - | I13: 統計区分なし | J13: - | L13: 18825 | M13: 37183 | O13: 統計区分なし | P13: - | R13: 統計区分なし | S13: -
A14: ２１年 | C14: 20563 | D14: 32378 | E14: 7996 | F14: 統計区分なし | G14: - | I14: 統計区分なし | J14: - | L14: 13048 | M14: 25968 | O14: 統計区分なし | P14: - | R14: 統計区分なし | S14: -
A15: ２２年 | C15: 26772 | D15: 43103 | E15: 11274 | F15: 統計区分なし | G15: - | I15: 統計区分なし | J15: - | L15: 15856 | M15: 34569 | O15: 統計区分なし | P15: - | R15: 統計区分なし | S15: -
A16: ２３年 | C16: 23831 | D16: 39978 | E16: 10098 | F16: 統計区分なし | G16: - | I16: 統計区分なし | J16: - | L16: 13930 | M16: 32242 | O16: 統計区分なし | P16: - | R16: 統計区分なし | S16: -
A17: ２４年 | C17: 22981 | D17: 38328 | E17: 9207 | F17: 統計区分なし | G17: - | I17: 統計区分なし | J17: - | L17: 14604 | M17: 31088 | O17: 統計区分なし | P17: - | R17: 統計区分なし | S17: -
A18: ２５年 | C18: 21707 | D18: 32121 | E18: 9311 | F18: 統計区分なし | G18: - | I18: 統計区分なし | J18: - | L18: 12615 | M18: 24673 | O18: 統計区分なし | P18: - | R18: 統計区分なし | S18: -
... A20: ２７年 | C20: 20307 | D20: 26508 | E20: 8419 | F20: 統計区分なし | G20: - | I20: 統計区分なし | J20: - | L20: 11001 | M20: 18618 | O20: 統計区分なし | P20: - | R20: 統計区分なし | S20: -
A21: ２８年 | B21: 2016 | C21: 18890 | D21: 27467 | E21: 7893 | F21: 統計区分なし | G21: - | I21: 統計区分なし | J21: - | L21: 10096 | M21: 19741 | O21: 統計区分なし | P21: - | R21: 統計区分なし | S21: -
A22: ２９年 | B22: 2017 | C22: 19713 | D22: 29829 | E22: 8501 | F22: 統計区分なし | G22: - | I22: 統計区分なし | J22: - | L22: 10289 | M22: 20374 | O22: 統計区分なし | P22: - | R22: 統計区分なし | S22: -
A23: ３０年 | B23: 2018 | C23: 18689.804 | D23: 30877.117 | E23: 8052.585 | F23: 統計区分なし | G23: - | I23: 統計区分なし | J23: - | L23: 9514.016 | M23: 19988.428 | O23: 統計区分なし | P23: - | R23: 統計区分なし | S23: -
A24: ３１年 | B24: 2019 | C24: 17544.349 | D24: 31784.602 | E24: 7516.166 | F24: 統計区分なし | G24: - | I24: 統計区分なし | J24: - | L24: 9066.643 | M24: 23035.136 | O24: 統計区分なし | P24: - | R24: 統計区分なし | S24: -
A25: 令和2年 | B25: 2020 | C25: 13792.869 | D25: 26189.96 | E25: 5841.714 | F25: 統計区分なし | G25: - | I25: 統計区分なし | J25: - | L25: 7507.716 | M25: 18635.004 | O25: 統計区分なし | P25: - | R25: 統計区分なし | S25: -
A26: 令和3年 | B26: 2021 | C26: 16925.257 | D26: 32185.738 | E26: 7863.847 | F26: 統計区分なし | G26: - | I26: 統計区分なし | J26: - | L26: 7874.184 | M26: 21696.471 | O26: 統計区分なし | P26: - | R26: 統計区分なし | S26: -
A27: 令和4年 | B27: 2022 | C27: 15735.267 | D27: 36189.206 | E27: 7152.054 | F27: 統計区分なし | G27: - | I27: 統計区分なし | J27: - | L27: 7363.141 | M27: 24556.255 | O27: 統計区分なし | P27: - | R27: 統計区分なし | S27: -
A28: 令和5年 | B28: 2023 | C28: 14138.505 | D28: 38884.568 | E28: 5936.756 | F28: 統計区分なし | G28: - | I28: 統計区分なし | J28: - | L28: 7422.596 | M28: 29157.321 | O28: 統計区分なし | P28: - | R28: 統計区分なし | S28: -
A29: 令和6年 | B29: 2024 | C29: 14481.893 | D29: 37456.774 | E29: 6750.31 | F29: 統計区分なし | G29: - | I29: 統計区分なし | J29: - | L29: 7118.713 | M29: 27445.329 | O29: 統計区分なし | P29: - | R29: 統計区分なし | S29: -
A30: 令和6年 | B30: 2025 | C30: ='亜鉛(月別集計)'!C30 -> 13525.238 | D30: ='亜鉛(月別集計)'!D30 -> 35786.809 | E30: ='亜鉛(月別集計)'!E30 -> 6145.209 | F30: 統計区分なし | G30: - | I30: 統計区分なし | J30: - | L30: 7118.713 | M30: 27445.329 | O30: 統計区分なし | P30: - | R30: 統計区分なし | S30: -
A31: 令和7年 | B31: 2026 | C31: ='亜鉛(月別集計)'!C46 -> 8989.96 | D31: ='亜鉛(月別集計)'!D46 -> 25420.548 | E31: ='亜鉛(月別集計)'!E46 -> 4155.603 | F31: 統計区分なし | G31: - | I31: 統計区分なし | J31: - | L31: ='亜鉛(月別集計)'!L46 -> 4234.902 | M31: ='亜鉛(月別集計)'!M46 -> 17871.665 | O31: 統計区分なし | P31: - | R31: 統計区分なし | S31: -
B32: ＊は自己消費量を示し、合計値の内数である。
A34: ４.その他ダイカスト
C35: 合 計 | E35: ＊内 製 | F35: 一般機械用 | I35: 電気機械用 | L35: 自動車用 | O35: 二輪自動車用 | R35: その他用
C36: ト ン | D36: 百万円 | E36: ト ン | F36: ト ン | G36: 百万円 | I36: ト ン | J36: 百万円 | L36: ト ン | M36: 百万円 | O36: ト ン | P36: 百万円 | R36: ト ン | S36: 百万円
A37: １３年 | C37: 5414 | D37: 6367 | E37: 統計区分なし | F37: 240 | G37: 529 | I37: 664 | J37: 1776 | L37: 2702 | M37: 1328 | O37: 260 | P37: 262 | R37: 1547 | S37: 2471
A38: １４年 | C38: 7609 | D38: 8255 | E38: 統計区分なし | F38: 統計区分なし | G38: - | I38: 統計区分なし | J38: - | L38: 統計区分なし | M38: - | O38: 統計区分なし | P38: - | R38: 統計区分なし | S38: -
A39: １５年 | C39: 9656 | D39: 11834
A40: １６年 | C40: 8856 | D40: 11215
A41: １７年 | C41: 8102 | D41: 9378
A42: １８年 | C42: 7196 | D42: 7993
...

Sheet ダイカスト合計(前年比集計)
A1: ダイカストの生産統計(前年比集計)
U2: 一般社団法人 日本ダイカスト協会
A3: １．ダイカスト合計 | U3: 資料出所：経済産業省生産動態統計月報
B4: 合 計 | F4: ＊内 製 | H4: 一般機械用 | L4: 電気機械用 | P4: 自動車用 | T4: 二輪自動車用 | X4: その他用
B5: ト ン | C5: 前年比 | D5: 百万円 | E5: 前年比 | F5: ト ン | G5: 前年比 | H5: ト ン | I5: 前年比 | J5: 百万円 | K5: 前年比 | L5: ト ン | M5: 前年比 | N5: 百万円 | O5: 前年比 | P5: ト ン | Q5: 前年比 | R5: 百万円 | S5: 前年比 | T5: ト ン | U5: 前年比 | V5: 百万円 | W5: 前年比 | X5: ト ン | Y5: 前年比 | Z5: 百万円 | AA5: 前年比
A6: ='ダイカスト合計(月別集計)'!A18 -> 令和7年１月 | B6: =+'ダイカスト合計(月別集計)'!C18 -> 73595.008 | C6: 0.89411768 | D6: =+'ダイカスト合計(月別集計)'!D18 -> 58482.547 | E6: 0.96567955 | F6: =+'ダイカスト合計(月別集計)'!E18 -> 22524.731 | G6: 0.85660342 | H6: 統計区分なし | I6: - | J6: 統計区分なし | K6: - | L6: 統計区分なし | M6: - | N6: 統計区分なし | O6: - | P6: =+'ダイカスト合計(月別集計)'!L18 -> 65433.867 | Q6: 0.8900005 | R6: =+'ダイカスト合計(月別集計)'!M18 -> 49982.699 | S6: 0.96884767 | T6: 統計区分なし | U6: - | V6: 統計区分なし | W6: - | X6: 統計区分なし | Y6: - | Z6: 統計区分なし | AA6: -
A7: ='ダイカスト合計(月別集計)'!A19 -> ２月 | B7: =+'ダイカスト合計(月別集計)'!C19 -> 75664.687 | C7: 0.98888105 | D7: =+'ダイカスト合計(月別集計)'!D19 -> 59238.977 | E7: 1.0301006 | F7: =+'ダイカスト合計(月別集計)'!E19 -> 23677.37 | G7: 0.95173609 | P7: =+'ダイカスト合計(月別集計)'!L19 -> 67292.751 | Q7: 0.99450076 | R7: =+'ダイカスト合計(月別集計)'!M19 -> 50528.169 | S7: 1.0409888
A8: ='ダイカスト合計(月別集計)'!A20 -> ３月 | B8: =+'ダイカスト合計(月別集計)'!C20 -> 77431.503 | C8: 1.0279779 | D8: =+'ダイカスト合計(月別集計)'!D20 -> 61021.323 | E8: 1.0560463 | F8: =+'ダイカスト合計(月別集計)'!E20 -> 24145.808 | G8: 0.99641646 | P8: =+'ダイカスト合計(月別集計)'!L20 -> 69080.659 | Q8: 1.0404336 | R8: =+'ダイカスト合計(月別集計)'!M20 -> 52261.232 | S8: 1.0766502
A9: ='ダイカスト合計(月別集計)'!A21 -> ４月 | B9: =+'ダイカスト合計(月別集計)'!C21 -> 73775.247 | C9: 1.0549438 | D9: =+'ダイカスト合計(月別集計)'!D21 -> 58372.504 | E9: 1.0766346 | F9: =+'ダイカスト合計(月別集計)'!E21 -> 23641.327 | G9: 1.0464709 | P9: =+'ダイカスト合計(月別集計)'!L21 -> 65692.312 | Q9: 1.0742624 | R9: =+'ダイカスト合計(月別集計)'!M21 -> 49794.35 | S9: 1.1053974
A10: ='ダイカスト合計(月別集計)'!A22 -> ５月 | B10: =+'ダイカスト合計(月別集計)'!C22 -> 70662.493 | C10: 1.1970956 | D10: =+'ダイカスト合計(月別集計)'!D22 -> 56471.511 | E10: 1.187325 | F10: =+'ダイカスト合計(月別集計)'!E22 -> 22208.951 | G10: 1.152812 | P10: =+'ダイカスト合計(月別集計)'!L22 -> 63058.595 | Q10: 1.2292367 | R10: =+'ダイカスト合計(月別集計)'!M22 -> 48340.652 | S10: 1.223787
A11: ='ダイカスト合計(月別集計)'!A23 -> ６月 | B11: =+'ダイカスト合計(月別集計)'!C23 -> 77885.335 | C11: 1.1393951 | D11: =+'ダイカスト合計(月別集計)'!D23 -> 61986.75 | E11: 1.1658873 | F11: =+'ダイカスト合計(月別集計)'!E23 -> 24754.625 | G11: 1.0506803 | P11: =+'ダイカスト合計(月別集計)'!L23 -> 69733.586 | Q11: 1.1570663 | R11: =+'ダイカスト合計(月別集計)'!M23 -> 53376.04 | S11: 1.2027083
A12: ='ダイカスト合計(月別集計)'!A24 -> ７月 | B12: =+'ダイカスト合計(月別集計)'!C24 -> 83366.402 | C12: 1.0924051 | D12: =+'ダイカスト合計(月別集計)'!D24 -> 66138.02 | E12: 1.1109083 | F12: =+'ダイカスト合計(月別集計)'!E24 -> 26561.796 | G12: 1.0693755 | P12: =+'ダイカスト合計(月別集計)'!L24 -> 74837.639 | Q12: 1.1092665 | R12: =+'ダイカスト合計(月別集計)'!M24 -> 56986.414 | S12: 1.1426697
A13: ='ダイカスト合計(月別集計)'!A25 -> ８月 | B13: =+'ダイカスト合計(月別集計)'!C25 -> 58871.428 | C13: 1.1094414 | D13: =+'ダイカスト合計(月別集計)'!D25 -> 47405.37 | E13: 1.1529511 | F13: =+'ダイカスト合計(月別集計)'!E25 -> 17907.866 | G13: 1.087083 | P13: =+'ダイカスト合計(月別集計)'!L25 -> 52512.173 | Q13: 1.1298018 | R13: =+'ダイカスト合計(月別集計)'!M25 -> 40303.403 | S13: 1.1928232
A14: ='ダイカスト合計(月別集計)'!A26 -> ９月 | B14: =+'ダイカスト合計(月別集計)'!C26 -> 79690.346 | C14: 1.0526516 | D14: =+'ダイカスト合計(月別集計)'!D26 -> 62803.918 | E14: 1.1092299 | F14: =+'ダイカスト合計(月別集計)'!E26 -> 25686.254 | G14: 1.0088882 | P14: =+'ダイカスト合計(月別集計)'!L26 -> 71563.609 | Q14: 1.0716389 | R14: =+'ダイカスト合計(月別集計)'!M26 -> 53938.133 | S14: 1.1431905
A15: ='ダイカスト合計(月別集計)'!A27 -> １０月 | B15: =+'ダイカスト合計(月別集計)'!C27 -> 84251.576 | C15: 1.1567692 | D15: =+'ダイカスト合計(月別集計)'!D27 -> 66046.672 | E15: 1.1877661 | F15: =+'ダイカスト合計(月別集計)'!E27 -> 26711.853 | G15: 1.1217815 | P15: =+'ダイカスト合計(月別集計)'!L27 -> 75448.836 | Q15: 1.1797511 | R15: =+'ダイカスト合計(月別集計)'!M27 -> 56616.844 | S15: 1.2274777
A16: ='ダイカスト合計(月別集計)'!A28 -> １１月 | B16: =+'ダイカスト合計(月別集計)'!C28 -> 74003.019 | C16: 1.1052586 | D16: =+'ダイカスト合計(月別集計)'!D28 -> 58230.382 | E16: 1.1310043 | F16: =+'ダイカスト合計(月別集計)'!E28 -> 22411.397 | G16: 1.0930812 | P16: =+'ダイカスト合計(月別集計)'!L28 -> 65711.202 | Q16: 1.1262557 | R16: =+'ダイカスト合計(月別集計)'!M28 -> 49137.799 | S16: 1.1656755
A17: ='ダイカスト合計(月別集計)'!A29 -> １２月 | B17: =+'ダイカスト合計(月別集計)'!C29 -> 71378.153 | C17: 1.1152854 | D17: =+'ダイカスト合計(月別集計)'!D29 -> 57032.685 | E17: 1.1490642 | F17: =+'ダイカスト合計(月別集計)'!E29 -> 22010.925 | G17: 1.0813984 | P17: =+'ダイカスト合計(月別集計)'!L29 -> 63674.218 | Q17: 1.1425177 | R17: =+'ダイカスト合計(月別集計)'!M29 -> 48555.873 | S17: 1.1863168
A18: 合 計 | B18: =+'ダイカスト合計(月別集計)'!C30 -> 900575.2 | D18: =+'ダイカスト合計(月別集計)'!D30 -> 713230.66 | F18: =+'ダイカスト合計(月別集計)'!E30 -> 282242.9 | P18: =+'ダイカスト合計(月別集計)'!L30 -> 804039.45 | R18: =+'ダイカスト合計(月別集計)'!M30 -> 609821.61
A19: 前年同期 | B19: =+'ダイカスト合計(月別集計)'!C31 -> 906801.38 | D19: =+'ダイカスト合計(月別集計)'!D31 -> 693539.82 | F19: =+'ダイカスト合計(月別集計)'!E31 -> 285172.59 | P19: =+'ダイカスト合計(月別集計)'!L31 -> 808930 | R19: =+'ダイカスト合計(月別集計)'!M31 -> 593389
A20: シェアー ％ | B20: =B18/$B$18 -> 1 | D20: =D18/$D$18 -> 1 | F20: =F18/$B$18 -> 0.31340293 | P20: =P18/$B$18 -> 0.89280656 | R20: =R18/$D$18 -> 0.85501317
A21: 対前年比 ％ | B21: =B18/B19 -> 0.99313391 | D21: =D18/D19 -> 1.0283918 | F21: =F18/F19 -> 0.98972662 | P21: =P18/P19 -> 0.99395429 | R21: =R18/R19 -> 1.0276928
A22: ='ダイカスト合計(月別集計)'!A34 -> 令和8年１月 | B22: =+'ダイカスト合計(月別集計)'!C34 -> 71751.615 | C22: =B22/B6 -> 0.9749522 | D22: =+'ダイカスト合計(月別集計)'!D34 -> 57375.536 | E22: =D22/D6 -> 0.98107109 | F22: =+'ダイカスト合計(月別集計)'!E34 -> 22046.097 | G22: =F22/F6 -> 0.97875073 | H22: 統計区分なし | I22: - | J22: 統計区分なし | K22: - | L22: 統計区分なし | M22: - | N22: 統計区分なし | O22: - | P22: =+'ダイカスト合計(月別集計)'!L34 -> 63993.532 | Q22: =P22/P6 -> 0.97798793 | R22: =+'ダイカスト合計(月別集計)'!M34 -> 49064.566 | S22: =R22/R6 -> 0.98163098 | T22: 統計区分なし | U22: - | V22: 統計区分なし | W22: - | X22: 統計区分なし | Y22: - | Z22: 統計区分なし | AA22: -
A23: ='ダイカスト合計(月別集計)'!A35 -> ２月 | B23: =+'ダイカスト合計(月別集計)'!C35 -> 76028.241 | C23: =B23/B7 -> 1.0048048 | D23: =+'ダイカスト合計(月別集計)'!D35 -> 61080.572 | E23: =D23/D7 -> 1.0310876 | F23: =+'ダイカスト合計(月別集計)'!E35 -> 23216.998 | G23: =F23/F7 -> 0.98055646 | P23: =+'ダイカスト合計(月別集計)'!L35 -> 68047.024 | Q23: =P23/P7 -> 1.0112088 | R23: =+'ダイカスト合計(月別集計)'!M35 -> 52180.29 | S23: =R23/R7 -> 1.032697
A24: ='ダイカスト合計(月別集計)'!A36 -> ３月 | B24: =+'ダイカスト合計(月別集計)'!C36 -> 82563.162 | C24: =B24/B8 -> 1.0662735 | D24: =+'ダイカスト合計(月別集計)'!D36 -> 65909.287 | E24: =D24/D8 -> 1.0801026 | F24: =+'ダイカスト合計(月別集計)'!E36 -> 25719.342 | G24: =F24/F8 -> 1.065168 | P24: =+'ダイカスト合計(月別集計)'!L36 -> 74112.521 | Q24: =P24/P8 -> 1.0728404 | R24: =+'ダイカスト合計(月別集計)'!M36 -> 56774.908 | S24: =R24/R8 -> 1.0863676
A25: ='ダイカスト合計(月別集計)'!A37 -> ４月 | B25: =+'ダイカスト合計(月別集計)'!C37 -> 77352.071 | C25: =B25/B9 -> 1.0484827 | D25: =+'ダイカスト合計(月別集計)'!D37 -> 63625.72 | E25: =D25/D9 -> 1.0899947 | F25: =+'ダイカスト合計(月別集計)'!E37 -> 24577.88 | G25: =F25/F9 -> 1.0396151 | P25: =+'ダイカスト合計(月別集計)'!L37 -> 69010.276 | Q25: =P25/P9 -> 1.0505076 | R25: =+'ダイカスト合計(月別集計)'!M37 -> 54240.189 | S25: =R25/R9 -> 1.089284
A26: ='ダイカスト合計(月別集計)'!A38 -> ５月 | B26: =+'ダイカスト合計(月別集計)'!C38 -> 68755.878 | C26: =B26/B10 -> 0.97301801 | D26: =+'ダイカスト合計(月別集計)'!D38 -> 56595.297 | E26: =D26/D10 -> 1.002192 | F26: =+'ダイカスト合計(月別集計)'!E38 -> 21227.775 | G26: =F26/F10 -> 0.9558207 | P26: =+'ダイカスト合計(月別集計)'!L38 -> 61102.079 | Q26: =P26/P10 -> 0.96897305 | R26: =+'ダイカスト合計(月別集計)'!M38 -> 47981.914 | S26: =R26/R10 -> 0.99257896
A27: ='ダイカスト合計(月別集計)'!A39 -> ６月 | B27: =+'ダイカスト合計(月別集計)'!C39 -> 79556.062 | C27: =B27/B11 -> 1.0214511 | D27: =+'ダイカスト合計(月別集計)'!D39 -> 66089.965 | E27: =D27/D11 -> 1.066195 | F27: =+'ダイカスト合計(月別集計)'!E39 -> 24497.033 | G27: =F27/F11 -> 0.98959419 | P27: =+'ダイカスト合計(月別集計)'!L39 -> 70807.972 | Q27: =P27/P11 -> 1.015407 | R27: =+'ダイカスト合計(月別集計)'!M39 -> 55966.482 | S27: =R27/R11 -> 1.0485319
A28: ='ダイカスト合計(月別集計)'!A40 -> ７月 | B28: =+'ダイカスト合計(月別集計)'!C40 -> 85534.847 | C28: =B28/B12 -> 1.026011 | D28: =+'ダイカスト合計(月別集計)'!D40 -> 72758.149 | E28: =D28/D12 -> 1.1000957 | F28: =+'ダイカスト合計(月別集計)'!E40 -> 26597.254 | G28: =F28/F12 -> 1.0013349 | P28: =+'ダイカスト合計(月別集計)'!L40 -> 76478.034 | Q28: =P28/P12 -> 1.0219194 | R28: =+'ダイカスト合計(月別集計)'!M40 -> 62032.312 | S28: =R28/R12 -> 1.0885456
A29: ='ダイカスト合計(月別集計)'!A41 -> ８月 | B29: =+'ダイカスト合計(月別集計)'!C41 -> 61565.281 | C29: =B29/B13 -> 1.0457582 | D29: =+'ダイカスト合計(月別集計)'!D41 -> 52830.895 | E29: =D29/D13 -> 1.1144496 | F29: =+'ダイカスト合計(月別集計)'!E41 -> 19587.668 | G29: =F29/F13 -> 1.0938025 | P29: =+'ダイカスト合計(月別集計)'!L41 -> 55196.694 | Q29: =P29/P13 -> 1.0511219 | R29: =+'ダイカスト合計(月別集計)'!M41 -> 45581.267 | S29: =R29/R13 -> 1.1309533
A30: ='ダイカスト合計(月別集計)'!A42 -> ９月 | B30: =+'ダイカスト合計(月別集計)'!C42 -> 0 | C30: =B30/B14 -> 0 | D30: =+'ダイカスト合計(月別集計)'!D42 -> 0 | E30: =D30/D14 -> 0 | F30: =+'ダイカスト合計(月別集計)'!E42 -> 0 | G30: =F30/F14 -> 0 | P30: =+'ダイカスト合計(月別集計)'!L42 -> 0 | Q30: =P30/P14 -> 0 | R30: =+'ダイカスト合計(月別集計)'!M42 -> 0 | S30: =R30/R14 -> 0
A31: ='ダイカスト合計(月別集計)'!A43 -> １０月 | B31: =+'ダイカスト合計(月別集計)'!C43 -> 0 | C31: =B31/B15 -> 0 | D31: =+'ダイカスト合計(月別集計)'!D43 -> 0 | E31: =D31/D15 -> 0 | F31: =+'ダイカスト合計(月別集計)'!E43 -> 0 | G31: =F31/F15 -> 0 | P31: =+'ダイカスト合計(月別集計)'!L43 -> 0 | Q31: =P31/P15 -> 0 | R31: =+'ダイカスト合計(月別集計)'!M43 -> 0 | S31: =R31/R15 -> 0
A32: ='ダイカスト合計(月別集計)'!A44 -> １１月 | B32: =+'ダイカスト合計(月別集計)'!C44 -> 0 | C32: =B32/B16 -> 0 | D32: =+'ダイカスト合計(月別集計)'!D44 -> 0 | E32: =D32/D16 -> 0 | F32: =+'ダイカスト合計(月別集計)'!E44 -> 0 | G32: =F32/F16 -> 0 | P32: =+'ダイカスト合計(月別集計)'!L44 -> 0 | Q32: =P32/P16 -> 0 | R32: =+'ダイカスト合計(月別集計)'!M44 -> 0 | S32: =R32/R16 -> 0
A33: ='ダイカスト合計(月別集計)'!A45 -> １２月 | B33: =+'ダイカスト合計(月別集計)'!C45 -> 0 | C33: =B33/B17 -> 0 | D33: =+'ダイカスト合計(月別集計)'!D45 -> 0 | E33: =D33/D17 -> 0 | F33: =+'ダイカスト合計(月別集計)'!E45 -> 0 | G33: =F33/F17 -> 0 | P33: =+'ダイカスト合計(月別集計)'!L45 -> 0 | Q33: =P33/P17 -> 0 | R33: =+'ダイカスト合計(月別集計)'!M45 -> 0 | S33: =R33/R17 -> 0
A34: 合 計 | B34: =SUM(B22:B33) -> 603107.16 | D34: =SUM(D22:D33) -> 496265.42 | F34: =SUM(F22:F33) -> 187470.05 | P34: =SUM(P22:P33) -> 538748.13 | R34: =SUM(R22:R33) -> 423821.93
A35: 前年同期 | B35: ='ダイカスト合計(月別集計)'!C47 -> 591252.1 | D35: ='ダイカスト合計(月別集計)'!D47 -> 469117 | F35: ='ダイカスト合計(月別集計)'!E47 -> 185422.47 | P35: ='ダイカスト合計(月別集計)'!L47 -> 527641.58 | R35: ='ダイカスト合計(月別集計)'!M47 -> 401572.96
A36: シェアー ％ | B36: =B34/$B$34 -> 1 | D36: =D34/$D$34 -> 1 | F36: =F34/$B$34 -> 0.31084036 | P36: =P34/$B$34 -> 0.89328758 | R36: =R34/$D$34 -> 0.85402269
A37: 対前年比 ％ | B37: =B34/B35 -> 1.0200508 | D37: =D34/D35 -> 1.0578713 | F37: =F34/F35 -> 1.0110427 | P37: =P34/P35 -> 1.0210494 | R37: =R34/R35 -> 1.0554045
B38: ＊は自己消費量を示し、合計値の内数である。

Sheet アルミ(前年比集計)
A1: ダイカストの生産統計(前年比集計)
U2: 一般社団法人 日本ダイカスト協会
A3: 2．アルミニウムダイカスト | U3: 資料出所：経済産業省生産動態統計月報
B4: 合 計 | F4: ＊内 製 | H4: 一般機械用 | L4: 電気機械用 | P4: 自動車用 | T4: 二輪自動車用 | X4: その他用
B5: ト ン | C5: 前年比 | D5: 百万円 | E5: 前年比 | F5: ト ン | G5: 前年比 | H5: ト ン | I5: 前年比 | J5: 百万円 | K5: 前年比 | L5: ト ン | M5: 前年比 | N5: 百万円 | O5: 前年比 | P5: ト ン | Q5: 前年比 | R5: 百万円 | S5: 前年比 | T5: ト ン | U5: 前年比 | V5: 百万円 | W5: 前年比 | X5: ト ン | Y5: 前年比 | Z5: 百万円 | AA5: 前年比
A6: ='アルミ(月別集計)'!A18 -> 令和7年１月 | B6: =+'アルミ(月別集計)'!C18 -> 72175.823 | C6: 1.0650535 | D6: =+'アルミ(月別集計)'!D18 -> 55343.802 | E6: 1.0595385 | F6: =+'アルミ(月別集計)'!E18 -> 21939.863 | G6: 1.0093557 | H6: =+'アルミ(月別集計)'!F18 -> 2064.92 | I6: 0.8787708 | J6: =+'アルミ(月別集計)'!G18 -> 2262.909 | K6: 0.90487077 | L6: =+'アルミ(月別集計)'!I18 -> 1242.669 | M6: 0.95536876 | N6: =+'アルミ(月別集計)'!J18 -> 1676.002 | O6: 0.96710066 | P6: =+'アルミ(月別集計)'!L18 -> 64824.93 | Q6: 1.0880363 | R6: =+'アルミ(月別集計)'!M18 -> 47899.569 | S6: 1.0855625 | T6: ='アルミ(月別集計)'!O18 -> 1764.175 | U6: 1.0849167 | V6: =+'アルミ(月別集計)'!P18 -> 1442.924 | W6: 1.1153357 | X6: =+'アルミ(月別集計)'!R18 -> 2279.129 | Y6: 0.80011024 | Z6: =+'アルミ(月別集計)'!S18 -> 2062.398 | AA6: 0.80783129
A7: ='アルミ(月別集計)'!A19 -> ２月 | B7: =+'アルミ(月別集計)'!C19 -> 74291.966 | C7: 0.99850694 | D7: =+'アルミ(月別集計)'!D19 -> 55870.458 | E7: 1.0237126 | F7: =+'アルミ(月別集計)'!E19 -> 23122.886 | G7: 0.94821752 | H7: =+'アルミ(月別集計)'!F19 -> 2112.539 | I7: 0.95198149 | J7: =+'アルミ(月別集計)'!G19 -> 2234.797 | K7: 0.93637215 | L7: =+'アルミ(月別集計)'!I19 -> 1239.166 | M7: 1.015148 | N7: =+'アルミ(月別集計)'!J19 -> 1700.78 | O7: 0.9448701 | P7: =+'アルミ(月別集計)'!L19 -> 66708.931 | Q7: 1.0095606 | R7: =+'アルミ(月別集計)'!M19 -> 48202.242 | S7: 1.0416382 | T7: ='アルミ(月別集計)'!O19 -> 1831.264 | U7: 1.043849 | V7: =+'アルミ(月別集計)'!P19 -> 1534.178 | W7: 1.1185372 | X7: =+'アルミ(月別集計)'!R19 -> 2400.066 | Y7: 0.77289969 | Z7: =+'アルミ(月別集計)'!S19 -> 2198.461 | AA7: 0.8024754
A8: ='アルミ(月別集計)'!A20 -> ３月 | B8: =+'アルミ(月別集計)'!C20 -> 76083.989 | C8: 0.86907288 | D8: =+'アルミ(月別集計)'!D20 -> 57407.424 | E8: 0.89309773 | F8: =+'アルミ(月別集計)'!E20 -> 23576.461 | G8: 0.84953597 | H8: =+'アルミ(月別集計)'!F20 -> 2195.658 | I8: 0.89774538 | J8: =+'アルミ(月別集計)'!G20 -> 2318.487 | K8: 0.91111171 | L8: =+'アルミ(月別集計)'!I20 -> 1204.123 | M8: 0.98296682 | N8: =+'アルミ(月別集計)'!J20 -> 1677.189 | O8: 0.95934312 | P8: =+'アルミ(月別集計)'!L20 -> 68516.073 | Q8: 0.87483909 | R8: =+'アルミ(月別集計)'!M20 -> 49669.814 | S8: 0.89657945 | T8: ='アルミ(月別集計)'!O20 -> 1788.573 | U8: 0.9381528 | V8: =+'アルミ(月別集計)'!P20 -> 1499.912 | W8: 1.0205955 | X8: =+'アルミ(月別集計)'!R20 -> 2379.562 | Y8: 0.64067642 | Z8: =+'アルミ(月別集計)'!S20 -> 2242.022 | AA8: 0.71118597
A9: ='アルミ(月別集計)'!A21 -> ４月 | B9: =+'アルミ(月別集計)'!C21 -> 72338.184 | C9: 0.9441208 | D9: =+'アルミ(月別集計)'!D21 -> 55536.627 | E9: 0.96805317 | F9: =+'アルミ(月別集計)'!E21 -> 23018.159 | G9: 0.9493177 | H9: =+'アルミ(月別集計)'!F21 -> 2088.531 | I9: 0.90411305 | J9: =+'アルミ(月別集計)'!G21 -> 2199.761 | K9: 0.95058922 | L9: =+'アルミ(月別集計)'!I21 -> 1137.755 | M9: 0.94808712 | N9: =+'アルミ(月別集計)'!J21 -> 1610.234 | O9: 0.96660505 | P9: =+'アルミ(月別集計)'!L21 -> 65135.951 | Q9: 0.95891142 | R9: =+'アルミ(月別集計)'!M21 -> 48061.346 | S9: 0.98048655 | T9: ='アルミ(月別集計)'!O21 -> 1711.81 | U9: 1.0033487 | V9: =+'アルミ(月別集計)'!P21 -> 1426.926 | W9: 1.0850733 | X9: =+'アルミ(月別集計)'!R21 -> 2264.137 | Y9: 0.62418224 | Z9: =+'アルミ(月別集計)'!S21 -> 2238.36 | AA9: 0.70813189
A10: ='アルミ(月別集計)'!A22 -> ５月 | B10: =+'アルミ(月別集計)'!C22 -> 69336.285 | C10: 1.0551738 | D10: =+'アルミ(月別集計)'!D22 -> 53415.558 | E10: 1.0735911 | F10: =+'アルミ(月別集計)'!E22 -> 21649.75 | G10: 1.0762301 | H10: =+'アルミ(月別集計)'!F22 -> 2051.646 | I10: 0.97647427 | J10: =+'アルミ(月別集計)'!G22 -> 2164.935 | K10: 1.025381 | L10: =+'アルミ(月別集計)'!I22 -> 1062.177 | M10: 0.94914223 | N10: =+'アルミ(月別集計)'!J22 -> 1569.818 | O10: 1.0725063 | P10: =+'アルミ(月別集計)'!L22 -> 62508.377 | Q10: 1.0797236 | R10: =+'アルミ(月別集計)'!M22 -> 46296.625 | S10: 1.0933359 | T10: ='アルミ(月別集計)'!O22 -> 1538.457 | U10: 0.91379676 | V10: =+'アルミ(月別集計)'!P22 -> 1298.551 | W10: 0.9573116 | X10: =+'アルミ(月別集計)'!R22 -> 2175.628 | Y10: 0.72211313 | Z10: =+'アルミ(月別集計)'!S22 -> 2085.629 | AA10: 0.81983798
A11: ='アルミ(月別集計)'!A23 -> ６月 | B11: =+'アルミ(月別集計)'!C23 -> 76600.564 | C11: 0.89769559 | D11: =+'アルミ(月別集計)'!D23 -> 58427.417 | E11: 0.90894712 | F11: =+'アルミ(月別集計)'!E23 -> 24270.911 | G11: 0.92118155 | H11: =+'アルミ(月別集計)'!F23 -> 2231.164 | I11: 0.84284739 | J11: =+'アルミ(月別集計)'!G23 -> 2336.948 | K11: 0.89096775 | L11: =+'アルミ(月別集計)'!I23 -> 1142.138 | M11: 0.89051738 | N11: =+'アルミ(月別集計)'!J23 -> 1633.811 | O11: 0.86203579 | P11: =+'アルミ(月別集計)'!L23 -> 69165.804 | Q11: 0.91031165 | R11: =+'アルミ(月別集計)'!M23 -> 50839.461 | S11: 0.92139494 | T11: ='アルミ(月別集計)'!O23 -> 1706.85 | U11: 0.8504412 | V11: =+'アルミ(月別集計)'!P23 -> 1392.628 | W11: 0.86367991 | X11: =+'アルミ(月別集計)'!R23 -> 2354.608 | Y11: 0.68532269 | Z11: =+'アルミ(月別集計)'!S23 -> 2224.569 | AA11: 0.74493334
A12: ='アルミ(月別集計)'!A24 -> ７月 | B12: =+'アルミ(月別集計)'!C24 -> 81945.435 | C12: 1.0097754 | D12: =+'アルミ(月別集計)'!D24 -> 62800.268 | E12: 1.0347093 | F12: =+'アルミ(月別集計)'!E24 -> 26065.185 | G12: 1.0444726 | H12: =+'アルミ(月別集計)'!F24 -> 2374.645 | I12: 1.0115335 | J12: =+'アルミ(月別集計)'!G24 -> 2532.667 | K12: 1.0517131 | L12: =+'アルミ(月別集計)'!I24 -> 1201.559 | M12: 1.0657962 | N12: =+'アルミ(月別集計)'!J24 -> 1778.04 | O12: 1.0664001 | P12: =+'アルミ(月別集計)'!L24 -> 74198.157 | Q12: 1.0209899 | R12: =+'アルミ(月別集計)'!M24 -> 54733.029 | S12: 1.0397393 | T12: ='アルミ(月別集計)'!O24 -> 1779.401 | U12: 0.95685432 | V12: =+'アルミ(月別集計)'!P24 -> 1436.848 | W12: 1.0719546 | X12: =+'アルミ(月別集計)'!R24 -> 2391.673 | Y12: 0.75396372 | Z12: =+'アルミ(月別集計)'!S24 -> 2319.684 | AA12: 0.87615122
A13: ='アルミ(月別集計)'!A25 -> ８月 | B13: =+'アルミ(月別集計)'!C25 -> 57819.657 | C13: 0.84156613 | D13: =+'アルミ(月別集計)'!D25 -> 44684.289 | E13: 0.8607245 | F13: =+'アルミ(月別集計)'!E25 -> 17527.748 | G13: 0.80872595 | H13: =+'アルミ(月別集計)'!F25 -> 1869.594 | I13: 0.88635061 | J13: =+'アルミ(月別集計)'!G25 -> 1974.489 | K13: 0.91910401 | L13: =+'アルミ(月別集計)'!I25 -> 974.255 | M13: 0.93651287 | N13: =+'アルミ(月別集計)'!J25 -> 1504.669 | O13: 1.0259224 | P13: =+'アルミ(月別集計)'!L25 -> 52069.162 | Q13: 0.84441124 | R13: =+'アルミ(月別集計)'!M25 -> 38494.564 | S13: 0.85594667 | T13: ='アルミ(月別集計)'!O25 -> 1182.063 | U13: 0.82870116 | V13: =+'アルミ(月別集計)'!P25 -> 975.305 | W13: 0.85307739 | X13: =+'アルミ(月別集計)'!R25 -> 1724.583 | Y13: 0.70253978 | Z13: =+'アルミ(月別集計)'!S25 -> 1735.262 | AA13: 0.79476608
A14: ='アルミ(月別集計)'!A26 -> ９月 | B14: =+'アルミ(月別集計)'!C26 -> 78388.76 | C14: 0.88539551 | D14: =+'アルミ(月別集計)'!D26 -> 59523.637 | E14: 0.90703458 | F14: =+'アルミ(月別集計)'!E26 -> 25219.234 | G14: 0.89208554 | H14: =+'アルミ(月別集計)'!F26 -> 2296.773 | I14: 0.97413438 | J14: =+'アルミ(月別集計)'!G26 -> 2453.87 | K14: 0.97159128 | L14: =+'アルミ(月別集計)'!I26 -> 1263.861 | M14: 0.93913736 | N14: =+'アルミ(月別集計)'!J26 -> 1804.983 | O14: 0.94645394 | P14: =+'アルミ(月別集計)'!L26 -> 70988.619 | Q14: 0.88713873 | R14: =+'アルミ(月別集計)'!M26 -> 51744.001 | S14: 0.90749767 | T14: ='アルミ(月別集計)'!O26 -> 1668.669 | U14: 0.91586414 | V14: =+'アルミ(月別集計)'!P26 -> 1389.243 | W14: 0.92919993 | X14: =+'アルミ(月別集計)'!R26 -> 2170.838 | Y14: 0.72921887 | Z14: =+'アルミ(月別集計)'!S26 -> 2131.54 | AA14: 0.79431685
A15: ='アルミ(月別集計)'!A27 -> １０月 | B15: =+'アルミ(月別集計)'!C27 -> 82873.582 | C15: 0.95484003 | D15: =+'アルミ(月別集計)'!D27 -> 62612.778 | E15: 0.98470738 | F15: =+'アルミ(月別集計)'!E27 -> 26222.87 | G15: 0.98892775 | H15: =+'アルミ(月別集計)'!F27 -> 2438.005 | I15: 0.96023934 | J15: =+'アルミ(月別集計)'!G27 -> 2539.127 | K15: 0.98445759 | L15: =+'アルミ(月別集計)'!I27 -> 1338.315 | M15: 0.9760342 | N15: =+'アルミ(月別集計)'!J27 -> 1910.463 | O15: 1.0095949 | P15: =+'アルミ(月別集計)'!L27 -> 74808.883 | Q15: 0.96186535 | R15: =+'アルミ(月別集計)'!M27 -> 54286.736 | S15: 0.98991227 | T15: ='アルミ(月別集計)'!O27 -> 1969.709 | U15: 0.98242771 | V15: =+'アルミ(月別集計)'!P27 -> 1621.168 | W15: 0.99418695 | X15: =+'アルミ(月別集計)'!R27 -> 2318.67 | Y15: 0.74438943 | Z15: =+'アルミ(月別集計)'!S27 -> 2255.284 | AA15: 0.84792719
A16: ='アルミ(月別集計)'!A28 -> １１月 | B16: =+'アルミ(月別集計)'!C28 -> 72750.629 | C16: 0.89704426 | D16: =+'アルミ(月別集計)'!D28 -> 55115.607 | E16: 0.94343687 | F16: =+'アルミ(月別集計)'!E28 -> 21931.85 | G16: 0.87761485 | H16: =+'アルミ(月別集計)'!F28 -> 2196.927 | I16: 0.95498826 | J16: =+'アルミ(月別集計)'!G28 -> 2385.945 | K16: 1.017006 | L16: =+'アルミ(月別集計)'!I28 -> 1188.244 | M16: 0.89090671 | N16: =+'アルミ(月別集計)'!J28 -> 1786.908 | O16: 0.9433698 | P16: =+'アルミ(月別集計)'!L28 -> 65204.971 | Q16: 0.90231445 | R16: =+'アルミ(月別集計)'!M28 -> 47123.179 | S16: 0.94427651 | T16: ='アルミ(月別集計)'!O28 -> 1782.897 | U16: 0.83846217 | V16: =+'アルミ(月別集計)'!P28 -> 1518.703 | W16: 0.89654885 | X16: =+'アルミ(月別集計)'!R28 -> 2377.59 | Y16: 0.75783881 | Z16: =+'アルミ(月別集計)'!S28 -> 2300.872 | AA16: 0.88551667
A17: ='アルミ(月別集計)'!A29 -> １２月 | B17: =+'アルミ(月別集計)'!C29 -> 70189.435 | C17: 0.93138952 | D17: =+'アルミ(月別集計)'!D29 -> 53810.093 | E17: 0.97155036 | F17: =+'アルミ(月別集計)'!E29 -> 21552.777 | G17: 0.91542209 | H17: =+'アルミ(月別集計)'!F29 -> 2124.72 | I17: 0.99297937 | J17: =+'アルミ(月別集計)'!G29 -> 2218.541 | K17: 0.9961677 | L17: =+'アルミ(月別集計)'!I29 -> 1136.48 | M17: 0.95133701 | N17: =+'アルミ(月別集計)'!J29 -> 1665.068 | O17: 0.94170531 | P17: =+'アルミ(月別集計)'!L29 -> 63161.49 | Q17: 0.93069591 | R17: =+'アルミ(月別集計)'!M29 -> 46394.262 | S17: 0.97264083 | T17: ='アルミ(月別集計)'!O29 -> 1645.348 | U17: 0.8814288 | V17: =+'アルミ(月別集計)'!P29 -> 1410.057 | W17: 0.89444512 | X17: =+'アルミ(月別集計)'!R29 -> 2121.397 | Y17: 0.92036812 | Z17: =+'アルミ(月別集計)'!S29 -> 2122.165 | AA17: 0.99738585
A18: 合 計 | B18: =+'アルミ(月別集計)'!C30 -> 884794.31 | D18: =+'アルミ(月別集計)'!D30 -> 674547.96 | F18: =+'アルミ(月別集計)'!E30 -> 276097.69 | H18: =+'アルミ(月別集計)'!F30 -> 26045.122 | J18: =+'アルミ(月別集計)'!G30 -> 27622.476 | L18: =+'アルミ(月別集計)'!I30 -> 14130.742 | N18: =+'アルミ(月別集計)'!J30 -> 20317.965 | P18: =+'アルミ(月別集計)'!L30 -> 797291.35 | R18: =+'アルミ(月別集計)'!M30 -> 583744.83 | T18: ='アルミ(月別集計)'!O30 -> 20369.216 | V18: =+'アルミ(月別集計)'!P30 -> 16946.443 | X18: =+'アルミ(月別集計)'!R30 -> 26957.881 | Z18: =+'アルミ(月別集計)'!S30 -> 25916.246
A19: 前年同期 | B19: =+'アルミ(月別集計)'!C31 -> 890005.58 | D19: =+'アルミ(月別集計)'!D31 -> 653212.41 | F19: =+'アルミ(月別集計)'!E31 -> 278422.28 | H19: =+'アルミ(月別集計)'!F31 -> 26338.596 | J19: =+'アルミ(月別集計)'!G31 -> 26734.922 | L19: =+'アルミ(月別集計)'!I31 -> 15121.263 | N19: =+'アルミ(月別集計)'!J31 -> 20079.782 | P19: =+'アルミ(月別集計)'!L31 -> 801812.14 | R19: =+'アルミ(月別集計)'!M31 -> 565944.37 | T19: ='アルミ(月別集計)'!O31 -> 20257.589 | V19: =+'アルミ(月別集計)'!P31 -> 16330.521 | X19: =+'アルミ(月別集計)'!R31 -> 26475.992 | Z19: =+'アルミ(月別集計)'!S31 -> 24122.809
A20: シェアー ％ | B20: 1 | D20: 1 | F20: =F18/$B$18 -> 0.31204732 | H20: =H18/$B$18 -> 0.029436358 | J20: =J18/$D$18 -> 0.04094961 | L20: =L18/$B$18 -> 0.015970652 | N20: =N18/$D$18 -> 0.030120861 | P20: =P18/$B$18 -> 0.90110361 | R20: =R18/$D$18 -> 0.8653867 | T20: =T18/$B$18 -> 0.023021414 | V20: =V18/$D$18 -> 0.025122666 | X20: =X18/$B$18 -> 0.030467964 | Z20: =Z18/$D$18 -> 0.038420168
A21: 対前年比 ％ | B21: =B18/B19 -> 0.99414468 | D21: =D18/D19 -> 1.0326625 | F21: =F18/F19 -> 0.99165087 | H21: =H18/H19 -> 0.98885764 | J21: =J18/J19 -> 1.0331983 | L21: =L18/L19 -> 0.93449482 | N21: =N18/N19 -> 1.0118618 | P21: =P18/P19 -> 0.99436178 | R21: =R18/R19 -> 1.0314527 | T21: 1.0697404 | V21: =V18/V19 -> 1.037716 | X21: =X18/X19 -> 1.018201 | Z21: =Z18/Z19 -> 1.0743461
A22: ='アルミ(月別集計)'!A34 -> 令和8年１月 | B22: ='アルミ(月別集計)'!C34 -> 70523.523 | C22: =B22/B6 -> 0.97710729 | D22: ='アルミ(月別集計)'!D34 -> 54172.102 | E22: =D22/D6 -> 0.9788287 | F22: ='アルミ(月別集計)'!E34 -> 21564.13 | G22: =F22/F6 -> 0.98287441 | H22: ='アルミ(月別集計)'!F34 -> 2023.535 | I22: =H22/H6 -> 0.97995806 | J22: ='アルミ(月別集計)'!G34 -> 2101.652 | K22: =J22/J6 -> 0.92873907 | L22: ='アルミ(月別集計)'!I34 -> 1085.871 | M22: =L22/L6 -> 0.87382159 | N22: ='アルミ(月別集計)'!J34 -> 1634.255 | O22: =N22/N6 -> 0.97509132 | P22: ='アルミ(月別集計)'!L34 -> 63477.838 | Q22: =P22/P6 -> 0.97921954 | R22: ='アルミ(月別集計)'!M34 -> 46915.253 | S22: =R22/R6 -> 0.97945042 | T22: ='アルミ(月別集計)'!O34 -> 1670.631 | U22: =T22/T6 -> 0.94697578 | V22: ='アルミ(月別集計)'!P34 -> 1372.498 | W22: =V22/V6 -> 0.95119216 | X22: ='アルミ(月別集計)'!R34 -> 2265.648 | Y22: =X22/X6 -> 0.99408502 | Z22: ='アルミ(月別集計)'!S34 -> 2148.444 | AA22: =Z22/Z6 -> 1.0417213
A23: ='アルミ(月別集計)'!A35 -> ２月 | B23: ='アルミ(月別集計)'!C35 -> 74785.503 | C23: =B23/B7 -> 1.0066432 | D23: ='アルミ(月別集計)'!D35 -> 57822.55 | E23: =D23/D7 -> 1.0349396 | F23: ='アルミ(月別集計)'!E35 -> 22755.964 | G23: =F23/F7 -> 0.98413165 | H23: ='アルミ(月別集計)'!F35 -> 2166.868 | I23: =H23/H7 -> 1.0257174 | J23: ='アルミ(月別集計)'!G35 -> 2216.736 | K23: =J23/J7 -> 0.99191828 | L23: ='アルミ(月別集計)'!I35 -> 1177.163 | M23: =L23/L7 -> 0.94996393 | N23: ='アルミ(月別集計)'!J35 -> 1742.077 | O23: =N23/N7 -> 1.0242812 | P23: ='アルミ(月別集計)'!L35 -> 67508.492 | Q23: =P23/P7 -> 1.0119858 | R23: ='アルミ(月別集計)'!M35 -> 50030.712 | S23: =R23/R7 -> 1.0379333 | T23: ='アルミ(月別集計)'!O35 -> 1617.51 | U23: =T23/T7 -> 0.88327516 | V23: ='アルミ(月別集計)'!P35 -> 1396.671 | W23: =V23/V7 -> 0.9103709 | X23: ='アルミ(月別集計)'!R35 -> 2315.47 | Y23: =X23/X7 -> 0.96475264 | Z23: ='アルミ(月別集計)'!S35 -> 2436.354 | AA23: =Z23/Z7 -> 1.1082089
A24: ='アルミ(月別集計)'!A36 -> ３月 | B24: ='アルミ(月別集計)'!C36 -> 81255.636 | C24: =B24/B8 -> 1.0679729 | D24: ='アルミ(月別集計)'!D36 -> 62438.272 | E24: =D24/D8 -> 1.0876341 | F24: ='アルミ(月別集計)'!E36 -> 25181.59 | G24: =F24/F8 -> 1.0680818 | H24: ='アルミ(月別集計)'!F36 -> 2249.137 | I24: =H24/H8 -> 1.0243567 | J24: ='アルミ(月別集計)'!G36 -> 2318.674 | K24: =J24/J8 -> 1.0000807 | L24: ='アルミ(月別集計)'!I36 -> 1234.056 | M24: =L24/L8 -> 1.0248588 | N24: ='アルミ(月別集計)'!J36 -> 1820.606 | O24: =N24/N8 -> 1.0855103 | P24: ='アルミ(月別集計)'!L36 -> 73581.492 | Q24: =P24/P8 -> 1.0739304 | R24: ='アルミ(月別集計)'!M36 -> 54446.378 | S24: =R24/R8 -> 1.0961663 | T24: ='アルミ(月別集計)'!O36 -> 1671.561 | U24: =T24/T8 -> 0.93457801 | V24: ='アルミ(月別集計)'!P36 -> 1396.111 | W24: =V24/V8 -> 0.93079527 | X24: ='アルミ(月別集計)'!R36 -> 2519.39 | Y24: =X24/X8 -> 1.0587621 | Z24: ='アルミ(月別集計)'!S36 -> 2456.503 | AA24: =Z24/Z8 -> 1.0956641
A25: ='アルミ(月別集計)'!A37 -> ４月 | B25: ='アルミ(月別集計)'!C37 -> 76046.84 | C25: =B25/B9 -> 1.0512683 | D25: ='アルミ(月別集計)'!D37 -> 60067.79 | E25: =D25/D9 -> 1.0815887 | F25: ='アルミ(月別集計)'!E37 -> 24043.189 | G25: =F25/F9 -> 1.0445314 | H25: ='アルミ(月別集計)'!F37 -> 2223.068 | I25: =H25/H9 -> 1.064417 | J25: ='アルミ(月別集計)'!G37 -> 2382.691 | K25: =J25/J9 -> 1.083159 | L25: ='アルミ(月別集計)'!I37 -> 1257.828 | M25: =L25/L9 -> 1.105535 | N25: ='アルミ(月別集計)'!J37 -> 1931.907 | O25: =N25/N9 -> 1.1997679 | P25: ='アルミ(月別集計)'!L37 -> 68498.889 | Q25: =P25/P9 -> 1.0516295 | R25: ='アルミ(月別集計)'!M37 -> 51915.384 | S25: =R25/R9 -> 1.08019 | T25: ='アルミ(月別集計)'!O37 -> 1603.338 | U25: =T25/T9 -> 0.93663315 | V25: ='アルミ(月別集計)'!P37 -> 1387.097 | W25: =V25/V9 -> 0.97208755 | X25: ='アルミ(月別集計)'!R37 -> 2463.717 | Y25: =X25/X9 -> 1.0881484 | Z25: ='アルミ(月別集計)'!S37 -> 2450.711 | AA25: =Z25/Z9 -> 1.094869
A26: ='アルミ(月別集計)'!A38 -> ５月 | B26: ='アルミ(月別集計)'!C38 -> 67571.478 | C26: =B26/B10 -> 0.97454714 | D26: ='アルミ(月別集計)'!D38 -> 53275.233 | E26: =D26/D10 -> 0.99737296 | F26: ='アルミ(月別集計)'!E38 -> 20751.301 | G26: =F26/F10 -> 0.95850072 | H26: ='アルミ(月別集計)'!F38 -> 2024.68 | I26: =H26/H10 -> 0.98685641 | J26: ='アルミ(月別集計)'!G38 -> 2143.414 | K26: =J26/J10 -> 0.99005929 | L26: ='アルミ(月別集計)'!I38 -> 1112.116 | M26: =L26/L10 -> 1.0470157 | N26: ='アルミ(月別集計)'!J38 -> 1737.649 | O26: =N26/N10 -> 1.1069111 | P26: ='アルミ(月別集計)'!L38 -> 60631.494 | Q26: =P26/P10 -> 0.9699739 | R26: ='アルミ(月別集計)'!M38 -> 45854.907 | S26: =R26/R10 -> 0.99045896 | T26: ='アルミ(月別集計)'!O38 -> 1475.35 | U26: =T26/T10 -> 0.95898033 | V26: ='アルミ(月別集計)'!P38 -> 1238.333 | W26: =V26/V10 -> 0.95362677 | X26: ='アルミ(月別集計)'!R38 -> 2327.838 | Y26: =X26/X10 -> 1.0699614 | Z26: ='アルミ(月別集計)'!S38 -> 2300.93 | AA26: =Z26/Z10 -> 1.1032307
A27: ='アルミ(月別集計)'!A39 -> ６月 | B27: ='アルミ(月別集計)'!C39 -> 78206.162 | C27: =B27/B11 -> 1.0209607 | D27: ='アルミ(月別集計)'!D39 -> 62510.936 | E27: =D27/D11 -> 1.0698905 | F27: ='アルミ(月別集計)'!E39 -> 23971.901 | G27: =F27/F11 -> 0.98768031 | H27: ='アルミ(月別集計)'!F39 -> 2325.604 | I27: =H27/H11 -> 1.0423277 | J27: ='アルミ(月別集計)'!G39 -> 2538.906 | K27: =J27/J11 -> 1.0864196 | L27: ='アルミ(月別集計)'!I39 -> 1307.334 | M27: =L27/L11 -> 1.1446375 | N27: ='アルミ(月別集計)'!J39 -> 2034.1 | O27: =N27/N11 -> 1.2450032 | P27: ='アルミ(月別集計)'!L39 -> 70235.358 | Q27: =P27/P11 -> 1.0154636 | R27: ='アルミ(月別集計)'!M39 -> 53675.715 | S27: =R27/R11 -> 1.0557884 | T27: ='アルミ(月別集計)'!O39 -> 1758.006 | U27: =T27/T11 -> 1.029971 | V27: ='アルミ(月別集計)'!P39 -> 1562.434 | W27: =V27/V11 -> 1.1219321 | X27: ='アルミ(月別集計)'!R39 -> 2579.86 | Y27: =X27/X11 -> 1.0956643 | Z27: ='アルミ(月別集計)'!S39 -> 2699.781 | AA27: =Z27/Z11 -> 1.2136198
A28: ='アルミ(月別集計)'!A40 -> ７月 | B28: ='アルミ(月別集計)'!C40 -> 84086.723 | C28: =B28/B12 -> 1.0261307 | D28: ='アルミ(月別集計)'!D40 -> 68902.032 | E28: =D28/D12 -> 1.0971614 | F28: ='アルミ(月別集計)'!E40 -> 26034.549 | G28: =F28/F12 -> 0.99882464 | H28: ='アルミ(月別集計)'!F40 -> 2387.032 | I28: =H28/H12 -> 1.0052164 | J28: ='アルミ(月別集計)'!G40 -> 2637.743 | K28: =J28/J12 -> 1.0414883 | L28: ='アルミ(月別集計)'!I40 -> 1363.357 | M28: =L28/L12 -> 1.1346567 | N28: ='アルミ(月別集計)'!J40 -> 2203.568 | O28: =N28/N12 -> 1.2393242 | P28: ='アルミ(月別集計)'!L40 -> 75851.848 | Q28: =P28/P12 -> 1.0222875 | R28: ='アルミ(月別集計)'!M40 -> 59571.856 | S28: =R28/R12 -> 1.0884078 | T28: ='アルミ(月別集計)'!O40 -> 1764.519 | U28: =T28/T12 -> 0.99163651 | V28: ='アルミ(月別集計)'!P40 -> 1593.146 | W28: =V28/V12 -> 1.1087784 | X28: ='アルミ(月別集計)'!R40 -> 2719.967 | Y28: =X28/X12 -> 1.1372654 | Z28: ='アルミ(月別集計)'!S40 -> 2895.719 | AA28: =Z28/Z12 -> 1.2483248
A29: ='アルミ(月別集計)'!A41 -> ８月 | B29: ='アルミ(月別集計)'!C41 -> 60299.108 | C29: =B29/B13 -> 1.0428825 | D29: ='アルミ(月別集計)'!D41 -> 49485.584 | E29: =D29/D13 -> 1.1074493 | F29: ='アルミ(月別集計)'!E41 -> 19011.82 | G29: =F29/F13 -> 1.0846699 | H29: ='アルミ(月別集計)'!F41 -> 1669.022 | I29: =H29/H13 -> 0.89271895 | J29: ='アルミ(月別集計)'!G41 -> 1592.628 | K29: =J29/J13 -> 0.80660262 | L29: ='アルミ(月別集計)'!I41 -> 862.236 | M29: =L29/L13 -> 0.88502086 | N29: ='アルミ(月別集計)'!J41 -> 1340.137 | O29: =N29/N13 -> 0.89065236 | P29: ='アルミ(月別集計)'!L41 -> 54727.819 | Q29: =P29/P13 -> 1.0510601 | R29: ='アルミ(月別集計)'!M41 -> 43540.058 | S29: =R29/R13 -> 1.1310703 | T29: ='アルミ(月別集計)'!O41 -> 1188.024 | U29: =T29/T13 -> 1.0050429 | V29: ='アルミ(月別集計)'!P41 -> 1069.686 | W29: =V29/V13 -> 1.0967708 | X29: ='アルミ(月別集計)'!R41 -> 1852.007 | Y29: =X29/X13 -> 1.0738868 | Z29: ='アルミ(月別集計)'!S41 -> 1943.075 | AA29: =Z29/Z13 -> 1.1197589
